BEGIN:VCALENDAR
VERSION:2.0
PRODID:-//jEvents 2.0 for Joomla//EN
CALSCALE:GREGORIAN
METHOD:PUBLISH
BEGIN:VTIMEZONE
TZID:Europe/Sarajevo
BEGIN:STANDARD
DTSTART:20181028T020000
RDATE:20190331T030000
TZOFFSETFROM:+0200
TZOFFSETTO:+0100
TZNAME:Europe/Sarajevo CET
END:STANDARD
BEGIN:STANDARD
DTSTART:20191027T020000
RDATE:20200329T030000
TZOFFSETFROM:+0200
TZOFFSETTO:+0100
TZNAME:Europe/Sarajevo CET
END:STANDARD
BEGIN:STANDARD
DTSTART:20201025T020000
RDATE:20210328T030000
TZOFFSETFROM:+0200
TZOFFSETTO:+0100
TZNAME:Europe/Sarajevo CET
END:STANDARD
BEGIN:DAYLIGHT
DTSTART:20180418T190000
RDATE:20181028T020000
TZOFFSETFROM:+0100
TZOFFSETTO:+0200
TZNAME:Europe/Sarajevo CEST
END:DAYLIGHT
BEGIN:DAYLIGHT
DTSTART:20190331T030000
RDATE:20191027T020000
TZOFFSETFROM:+0100
TZOFFSETTO:+0200
TZNAME:Europe/Sarajevo CEST
END:DAYLIGHT
BEGIN:DAYLIGHT
DTSTART:20200329T030000
RDATE:20201025T020000
TZOFFSETFROM:+0100
TZOFFSETTO:+0200
TZNAME:Europe/Sarajevo CEST
END:DAYLIGHT
END:VTIMEZONE
BEGIN:VEVENT
UID:cf6ed6692b834ef03959f93c4d3042bc
CATEGORIES:Program
CREATED:20190409T150659
SUMMARY:Svečano otvaranje Festivala
LOCATION:Velika scena
DESCRIPTION:Svečano otvaranje 16. Međunarodnog festivala komedije „Mostarska liska 2019
 “ izložba "Glumac lirskog treptaja, Safet Pašalić prvi upravnik Narodnog po
 zorišta Mostar", autorice Amine Abdičević.\n
CONTACT:Ova adresa el. pošte je zaštićena od spambotova. Omogućite JavaScript da biste je vidjeli.
				document.getElementById('cloak1afa24a8edcdd8eb28fdebc7c3d02f7d').innerHTML = '';
				var prefix = '&#109;a' + 'i&#108;' + '&#116;o';
				var path = 'hr' + 'ef' + '=';
				var addy1afa24a8edcdd8eb28fdebc7c3d02f7d = 'm&#97;rk&#101;t&#105;ng' + '&#64;';
				addy1afa24a8edcdd8eb28fdebc7c3d02f7d = addy1afa24a8edcdd8eb28fdebc7c3d02f7d + 'npm' + '&#46;' + 'b&#97;';
				var addy_text1afa24a8edcdd8eb28fdebc7c3d02f7d = 'm&#97;rk&#101;t&#105;ng' + '&#64;' + 'npm' + '&#46;' + 'b&#97;';document.getElementById('cloak1afa24a8edcdd8eb28fdebc7c3d02f7d').innerHTML += '<a ' + path + '\'' + prefix + ':' + addy1afa24a8edcdd8eb28fdebc7c3d02f7d + '\'>'+addy_text1afa24a8edcdd8eb28fdebc7c3d02f7d+'';
		
X-EXTRAINFO:Ulaznice su u prodaji na blagajni NPM-a svakim danom od 9 - 14 sati. Cijena
  ulaznice za sve programe iznosi 10 KM, a dostupni su i paketi ulaznica po 
 cijeni od 50 KM koji podrazumijevaju jednu ulaznicu za sve izvedbe u trajan
 ju Festivala. REZERVACIJE: na broj 036/550-128, mail: Ova adresa el. pošte 
 je zaštićena od spambotova. Omogućite JavaScript da biste je vidjeli.
				d
 ocument.getElementById('cloakaf4739e5055d14143e0ecc64ccf00a5e').innerHTML =
  '';
				var prefix = '&#109;a' + 'i&#108;' + '&#116;o';
				var path = 'hr
 ' + 'ef' + '=';
				var addyaf4739e5055d14143e0ecc64ccf00a5e = 'm&#97;rk&#1
 01;t&#105;ng' + '&#64;';
				addyaf4739e5055d14143e0ecc64ccf00a5e = addyaf4
 739e5055d14143e0ecc64ccf00a5e + 'npm' + '&#46;' + 'b&#97;';
				var addy_te
 xtaf4739e5055d14143e0ecc64ccf00a5e = 'm&#97;rk&#101;t&#105;ng' + '&#64;' + 
 'npm' + '&#46;' + 'b&#97;';document.getElementById('cloakaf4739e5055d14143e
 0ecc64ccf00a5e').innerHTML += '<a ' + path + '\'' + prefix + ':' + addyaf47
 39e5055d14143e0ecc64ccf00a5e + '\'>'+addy_textaf4739e5055d14143e0ecc64ccf00
 a5e+'';
		, ili porukom u inbox.
DTSTAMP:20260422T040147Z
DTSTART;TZID=Europe/Sarajevo:20190419T190000
DTEND;TZID=Europe/Sarajevo:20190419T200000
SEQUENCE:0
TRANSP:OPAQUE
END:VEVENT
END:VCALENDAR