BEGIN:VCALENDAR
VERSION:2.0
PRODID:-//jEvents 2.0 for Joomla//EN
CALSCALE:GREGORIAN
METHOD:PUBLISH
BEGIN:VTIMEZONE
TZID:Europe/Sarajevo
BEGIN:STANDARD
DTSTART:20191027T020000
RDATE:20200329T030000
TZOFFSETFROM:+0200
TZOFFSETTO:+0100
TZNAME:Europe/Sarajevo CET
END:STANDARD
BEGIN:STANDARD
DTSTART:20201025T020000
RDATE:20210328T030000
TZOFFSETFROM:+0200
TZOFFSETTO:+0100
TZNAME:Europe/Sarajevo CET
END:STANDARD
BEGIN:DAYLIGHT
DTSTART:20190928T200000
RDATE:20191027T020000
TZOFFSETFROM:+0100
TZOFFSETTO:+0200
TZNAME:Europe/Sarajevo CEST
END:DAYLIGHT
BEGIN:DAYLIGHT
DTSTART:20200329T030000
RDATE:20201025T020000
TZOFFSETFROM:+0100
TZOFFSETTO:+0200
TZNAME:Europe/Sarajevo CEST
END:DAYLIGHT
END:VTIMEZONE
BEGIN:VEVENT
UID:7a1a8a59b00bafe61dea1c73123bb636
CATEGORIES:Program
CREATED:20200907T130831
SUMMARY:Putovanje
LOCATION:Velika scena
DESCRIPTION:Autor: Vahid Klopić\nRežija: Midhat Kušljugić\nProdukcija: Narodno pozorišt
 e Tuzla\n
CONTACT:Ova adresa el. pošte je zaštićena od spambotova. Omogućite JavaScript da biste je vidjeli.
				document.getElementById('cloake1e27978e81cefee8f790390298b5a4a').innerHTML = '';
				var prefix = '&#109;a' + 'i&#108;' + '&#116;o';
				var path = 'hr' + 'ef' + '=';
				var addye1e27978e81cefee8f790390298b5a4a = 'm&#97;rk&#101;t&#105;ng' + '&#64;';
				addye1e27978e81cefee8f790390298b5a4a = addye1e27978e81cefee8f790390298b5a4a + 'npm' + '&#46;' + 'b&#97;';
				var addy_texte1e27978e81cefee8f790390298b5a4a = 'm&#97;rk&#101;t&#105;ng' + '&#64;' + 'npm' + '&#46;' + 'b&#97;';document.getElementById('cloake1e27978e81cefee8f790390298b5a4a').innerHTML += '<a ' + path + '\'' + prefix + ':' + addye1e27978e81cefee8f790390298b5a4a + '\'>'+addy_texte1e27978e81cefee8f790390298b5a4a+'';
		
DTSTAMP:20260421T211454Z
DTSTART;TZID=Europe/Sarajevo:20200928T200000
DTEND;TZID=Europe/Sarajevo:20200928T210000
SEQUENCE:0
TRANSP:OPAQUE
END:VEVENT
END:VCALENDAR