BEGIN:VCALENDAR
VERSION:2.0
PRODID:-//jEvents 2.0 for Joomla//EN
CALSCALE:GREGORIAN
METHOD:PUBLISH
BEGIN:VTIMEZONE
TZID:Europe/Sarajevo
END:VTIMEZONE
BEGIN:VEVENT
UID:bfb416201d87683ab5668446d4cbc73f
CATEGORIES:Program
CREATED:20230516T204009
SUMMARY:Tri dana ili uspon i pad gospodina B.
LOCATION:Velika scena
DESCRIPTION:Bosansko narodno pozorište Zenica\nSezona: 2021/2022.\nAutor: Roman Sikora\
 nPrijevod sa češkog: Adisa Zuberović\nRežija: Tanja Miletić-Oručević\nDrama
 turgija: Nedžma Čizmo\nScenografija i kostimografija: Sabina Trnka\nMuzika:
  Husein Oručević\nKonsultant za scenski pokret: Emir Fejzić\nKreacija i izr
 ada lutke: Sabina Trnka\nProdukcija i aranžman songa*: Igor Kasapović\nProd
 ucent: Miroljub Mijatović\nIzvršni producent: Denis Krdžalić\nInspicijent: 
 Abidin Čolaković\nIgraju: Nusmir Muharemović, Snežana Vidović, Adem Smailho
 džić, Siniša Vidović i Zlatan Školjić\n„Glavni lik i narator istovremeno (i
 zuzetno zahtjevna uloga koju sjajno tumači Nusmir Muharemović) Gospodin B. 
 je ogroman poklonik kapitalizma. Toliko gorljiv da i kad izgubi sve, vlasni
 štvo i bankarsku karijeru i završi kao beskućnik ispod mosta drži drugim be
 skućnicima seminare o osnovnim stubovima kapitalizma. Tako je velika njegov
 a vjera u, „homo fabera“ i tržišnu utakmicu da počinje funkcionisati kao lu
 da, naivac kog varaju sitni prevaranti. Njegov konačni pad – situacija u ko
 joj s razbijenom glavom i slomljenom nogom umire tri dana na ulici pred oči
 ma ravnodušnog društva – samo je krajnja konsekvenca tržišne utakmice u koj
 oj je izgubio“ dio je zapisa o predstavi režiserke Tanje Miletić-Oručević.\
 n\n\n \n
CONTACT:Ova adresa el. pošte je zaštićena od spambotova. Omogućite JavaScript da biste je vidjeli.
				document.getElementById('cloake9d555417a9be855c89bdff8ea07521f').innerHTML = '';
				var prefix = '&#109;a' + 'i&#108;' + '&#116;o';
				var path = 'hr' + 'ef' + '=';
				var addye9d555417a9be855c89bdff8ea07521f = 'm&#97;rk&#101;t&#105;ng' + '&#64;';
				addye9d555417a9be855c89bdff8ea07521f = addye9d555417a9be855c89bdff8ea07521f + 'npm' + '&#46;' + 'b&#97;';
				var addy_texte9d555417a9be855c89bdff8ea07521f = 'm&#97;rk&#101;t&#105;ng' + '&#64;' + 'npm' + '&#46;' + 'b&#97;';document.getElementById('cloake9d555417a9be855c89bdff8ea07521f').innerHTML += '<a ' + path + '\'' + prefix + ':' + addye9d555417a9be855c89bdff8ea07521f + '\'>'+addy_texte9d555417a9be855c89bdff8ea07521f+'';
		
DTSTAMP:20260421T205551Z
DTSTART;TZID=Europe/Sarajevo:20230520T200000
DTEND;TZID=Europe/Sarajevo:20230520T210000
SEQUENCE:0
TRANSP:OPAQUE
END:VEVENT
END:VCALENDAR