BEGIN:VCALENDAR
VERSION:2.0
PRODID:-//jEvents 2.0 for Joomla//EN
CALSCALE:GREGORIAN
METHOD:PUBLISH
BEGIN:VTIMEZONE
TZID:Europe/Sarajevo
END:VTIMEZONE
BEGIN:VEVENT
UID:94daabf5271773ab69c01e9eba4db486
CATEGORIES:Program
CREATED:20230516T205754
SUMMARY:Zid
LOCATION:Velika scena
DESCRIPTION:Hrvatsko narodno kazalište u Mostaru\n\nSezona: 2021/2022.\nAutorica: Ružic
 a Aščić\nRežija: Christian Jean-Michel Jalžečić\nAutorica adaptacije i dram
 aturginja: Dorotea Šušak\nKostimografkinja: Mirjana Zagorec\nIzrada videa: 
 Slaven Marinčić\nOblikovatelj zvuka: Andrijan Zovko\nKorištena muzika: ZOST
 ER: Sve čega nema, Asta manjana liberta Hercegovina; LUDOVICO EINAUDI: Nuvo
 le bianche\nU predstavi igraju Robert Pehar, Ivo Krešić, Ivan Skoko, Sanda 
 Krgo Soldo, Ana Franjčević, Nikolina Marić, Ana Ljubić / Rafaela Perić i Mi
 ro Barnjak.\nU središtu su ove drame tri generacije jedne porodice koje se 
 skupa s nekoliko stanara na različite načine suočavaju s činjenicom da se r
 uši zid stare užare koji se nalazi u neposrednoj blizini zgrade u kojoj živ
 e.\n
CONTACT:Ova adresa el. pošte je zaštićena od spambotova. Omogućite JavaScript da biste je vidjeli.
				document.getElementById('cloak27388610f6f1bb0f068bf017cb948da2').innerHTML = '';
				var prefix = '&#109;a' + 'i&#108;' + '&#116;o';
				var path = 'hr' + 'ef' + '=';
				var addy27388610f6f1bb0f068bf017cb948da2 = 'm&#97;rk&#101;t&#105;ng' + '&#64;';
				addy27388610f6f1bb0f068bf017cb948da2 = addy27388610f6f1bb0f068bf017cb948da2 + 'npm' + '&#46;' + 'b&#97;';
				var addy_text27388610f6f1bb0f068bf017cb948da2 = 'm&#97;rk&#101;t&#105;ng' + '&#64;' + 'npm' + '&#46;' + 'b&#97;';document.getElementById('cloak27388610f6f1bb0f068bf017cb948da2').innerHTML += '<a ' + path + '\'' + prefix + ':' + addy27388610f6f1bb0f068bf017cb948da2 + '\'>'+addy_text27388610f6f1bb0f068bf017cb948da2+'';
		
DTSTAMP:20260421T205552Z
DTSTART;TZID=Europe/Sarajevo:20230522T200000
DTEND;TZID=Europe/Sarajevo:20230522T210000
SEQUENCE:0
TRANSP:OPAQUE
END:VEVENT
END:VCALENDAR