BEGIN:VCALENDAR
VERSION:2.0
PRODID:-//jEvents 2.0 for Joomla//EN
CALSCALE:GREGORIAN
METHOD:PUBLISH
BEGIN:VTIMEZONE
TZID:Europe/Sarajevo
END:VTIMEZONE
BEGIN:VEVENT
UID:a7ae13fe2bec7133800314d691497888
CATEGORIES:Program
CREATED:20230516T205920
SUMMARY:Tko je ovdje lud?
LOCATION:Velika scena
DESCRIPTION:Kazalište Planet Art, Zagreb\nSezona: 2010/2011.\nAutor: D. R. Sanderson \n
 Prijevod: Jasminka Beader\nScenografija i režija: Marko Torjanac\nAdaptacij
 a: Marko Torjanac\nKostimografija: Đurđa Janeš\nKompozitor: Milorad Stranić
 \nOblikovanje svjetla: Goran Prelčec\nOblikovanje zvuka: Branko Vodeničar\n
 Dizajn: Tomislav Veltruski\nFotograf: Mladen Pobi\nVideo: Tomislav Pović\nI
 graju: Natalija Đorđević i Marko Torjanac\nAnticipirajući budućnost, šest i
 sprepletenih crnih psihoterapeutskih komedija preispituju granicu ‘normalno
 ga’ u svijetu punom eksplozija, pobijenih Vlada, stvarnih zečeva iz virtual
 nog svijeta, zagorenih kobasica u bijelom sosu i susreta s Bogom.\nTko je o
 vdje lud? kombinacija je crne komedije, drame i burleske koja nas kroz supt
 ilan ludistički pristup upoznaje sa senzibilnim disidentima iz stvarnog svi
 jeta dok u isto vrijeme razotkriva svu njegovu krhkost.\nIščekujući skoru k
 ataklizmu, naši protagonisti traže utočište u klinici Eden, a nas puštaju k
 ući s pitanjem s koje strane ludila mi odabiremo biti.\n
CONTACT:Ova adresa el. pošte je zaštićena od spambotova. Omogućite JavaScript da biste je vidjeli.
				document.getElementById('cloaka6e054180bc28a62a1e58e36e33912a7').innerHTML = '';
				var prefix = '&#109;a' + 'i&#108;' + '&#116;o';
				var path = 'hr' + 'ef' + '=';
				var addya6e054180bc28a62a1e58e36e33912a7 = 'm&#97;rk&#101;t&#105;ng' + '&#64;';
				addya6e054180bc28a62a1e58e36e33912a7 = addya6e054180bc28a62a1e58e36e33912a7 + 'npm' + '&#46;' + 'b&#97;';
				var addy_texta6e054180bc28a62a1e58e36e33912a7 = 'm&#97;rk&#101;t&#105;ng' + '&#64;' + 'npm' + '&#46;' + 'b&#97;';document.getElementById('cloaka6e054180bc28a62a1e58e36e33912a7').innerHTML += '<a ' + path + '\'' + prefix + ':' + addya6e054180bc28a62a1e58e36e33912a7 + '\'>'+addy_texta6e054180bc28a62a1e58e36e33912a7+'';
		
DTSTAMP:20260421T224449Z
DTSTART;TZID=Europe/Sarajevo:20230523T200000
DTEND;TZID=Europe/Sarajevo:20230523T210000
SEQUENCE:0
TRANSP:OPAQUE
END:VEVENT
END:VCALENDAR