BEGIN:VCALENDAR
VERSION:2.0
PRODID:-//jEvents 2.0 for Joomla//EN
CALSCALE:GREGORIAN
METHOD:PUBLISH
BEGIN:VTIMEZONE
TZID:Europe/Sarajevo
BEGIN:STANDARD
DTSTART:20161130T200000
RDATE:20170326T030000
TZOFFSETFROM:+0200
TZOFFSETTO:+0100
TZNAME:Europe/Sarajevo CET
END:STANDARD
BEGIN:STANDARD
DTSTART:20171029T020000
RDATE:20180325T030000
TZOFFSETFROM:+0200
TZOFFSETTO:+0100
TZNAME:Europe/Sarajevo CET
END:STANDARD
BEGIN:STANDARD
DTSTART:20181028T020000
RDATE:20190331T030000
TZOFFSETFROM:+0200
TZOFFSETTO:+0100
TZNAME:Europe/Sarajevo CET
END:STANDARD
BEGIN:STANDARD
DTSTART:20191027T020000
RDATE:20200329T030000
TZOFFSETFROM:+0200
TZOFFSETTO:+0100
TZNAME:Europe/Sarajevo CET
END:STANDARD
BEGIN:STANDARD
DTSTART:20201025T020000
RDATE:20210328T030000
TZOFFSETFROM:+0200
TZOFFSETTO:+0100
TZNAME:Europe/Sarajevo CET
END:STANDARD
BEGIN:DAYLIGHT
DTSTART:20170326T030000
RDATE:20171029T020000
TZOFFSETFROM:+0100
TZOFFSETTO:+0200
TZNAME:Europe/Sarajevo CEST
END:DAYLIGHT
BEGIN:DAYLIGHT
DTSTART:20180325T030000
RDATE:20181028T020000
TZOFFSETFROM:+0100
TZOFFSETTO:+0200
TZNAME:Europe/Sarajevo CEST
END:DAYLIGHT
BEGIN:DAYLIGHT
DTSTART:20190331T030000
RDATE:20191027T020000
TZOFFSETFROM:+0100
TZOFFSETTO:+0200
TZNAME:Europe/Sarajevo CEST
END:DAYLIGHT
BEGIN:DAYLIGHT
DTSTART:20200329T030000
RDATE:20201025T020000
TZOFFSETFROM:+0100
TZOFFSETTO:+0200
TZNAME:Europe/Sarajevo CEST
END:DAYLIGHT
END:VTIMEZONE
BEGIN:VEVENT
UID:bdacca3179337b749e02698917546b68
CATEGORIES:Program
CREATED:20171122T154359
SUMMARY:Ne igraj na Engleze - PREMIJERA
LOCATION:Velika scena
DESCRIPTION:<p>U petak, 1. 12. 2017. u 20 sati na Velikoj sceni premijerno će biti izve
 dena predstava “Ne igraj na Engleze” po tekstu Vladimira Đurđevića, u režij
 i Emira Spahića. U predstavi igraju: Emir Sejfić, Ivan Skoko i Emir Spahić.
  Adaptaciju i dramaturgiju radio je Adnan Lugonić, a scenografiju i kostimo
 grafiju predstave Sabina Trnka.</p>
CONTACT:Ova adresa el. pošte je zaštićena od spambotova. Omogućite JavaScript da biste je vidjeli.
				document.getElementById('cloakb408ebdd41cbc5eee896241d081cf7f8').innerHTML = '';
				var prefix = '&#109;a' + 'i&#108;' + '&#116;o';
				var path = 'hr' + 'ef' + '=';
				var addyb408ebdd41cbc5eee896241d081cf7f8 = 'm&#97;rk&#101;t&#105;ng' + '&#64;';
				addyb408ebdd41cbc5eee896241d081cf7f8 = addyb408ebdd41cbc5eee896241d081cf7f8 + 'npm' + '&#46;' + 'b&#97;';
				var addy_textb408ebdd41cbc5eee896241d081cf7f8 = 'm&#97;rk&#101;t&#105;ng' + '&#64;' + 'npm' + '&#46;' + 'b&#97;';document.getElementById('cloakb408ebdd41cbc5eee896241d081cf7f8').innerHTML += '<a ' + path + '\'' + prefix + ':' + addyb408ebdd41cbc5eee896241d081cf7f8 + '\'>'+addy_textb408ebdd41cbc5eee896241d081cf7f8+'';
		
X-EXTRAINFO:Ulaznice možete kupiti na blagajni Narodnog pozorišta Mostar svakim radnim 
 danom od 9 - 14 sati. Rezervacije na broj 036/550-128, e- mail: Ova adresa 
 el. pošte je zaštićena od spambotova. Omogućite JavaScript da biste je vidj
 eli.
				document.getElementById('cloak1c7b98087f9e63726826e885a27c49ec').i
 nnerHTML = '';
				var prefix = '&#109;a' + 'i&#108;' + '&#116;o';
				var 
 path = 'hr' + 'ef' + '=';
				var addy1c7b98087f9e63726826e885a27c49ec = 'm
 &#97;rk&#101;t&#105;ng' + '&#64;';
				addy1c7b98087f9e63726826e885a27c49ec
  = addy1c7b98087f9e63726826e885a27c49ec + 'npm' + '&#46;' + 'b&#97;';
				v
 ar addy_text1c7b98087f9e63726826e885a27c49ec = 'm&#97;rk&#101;t&#105;ng' + 
 '&#64;' + 'npm' + '&#46;' + 'b&#97;';document.getElementById('cloak1c7b9808
 7f9e63726826e885a27c49ec').innerHTML += '<a ' + path + '\'' + prefix + ':' 
 + addy1c7b98087f9e63726826e885a27c49ec + '\'>'+addy_text1c7b98087f9e6372682
 6e885a27c49ec+'';
		 i porukom u inbox na facebook stranici Narodnog pozori
 šta Mostar.
X-COLOR:#f70535
DTSTAMP:20260422T042557Z
DTSTART;TZID=Europe/Sarajevo:20171201T200000
SEQUENCE:0
TRANSP:OPAQUE
END:VEVENT
END:VCALENDAR