BEGIN:VCALENDAR
VERSION:2.0
PRODID:-//jEvents 2.0 for Joomla//EN
CALSCALE:GREGORIAN
METHOD:PUBLISH
BEGIN:VTIMEZONE
TZID:Europe/Sarajevo
BEGIN:STANDARD
DTSTART:20161207T200000
RDATE:20170326T030000
TZOFFSETFROM:+0200
TZOFFSETTO:+0100
TZNAME:Europe/Sarajevo CET
END:STANDARD
BEGIN:STANDARD
DTSTART:20171029T020000
RDATE:20180325T030000
TZOFFSETFROM:+0200
TZOFFSETTO:+0100
TZNAME:Europe/Sarajevo CET
END:STANDARD
BEGIN:STANDARD
DTSTART:20181028T020000
RDATE:20190331T030000
TZOFFSETFROM:+0200
TZOFFSETTO:+0100
TZNAME:Europe/Sarajevo CET
END:STANDARD
BEGIN:STANDARD
DTSTART:20191027T020000
RDATE:20200329T030000
TZOFFSETFROM:+0200
TZOFFSETTO:+0100
TZNAME:Europe/Sarajevo CET
END:STANDARD
BEGIN:STANDARD
DTSTART:20201025T020000
RDATE:20210328T030000
TZOFFSETFROM:+0200
TZOFFSETTO:+0100
TZNAME:Europe/Sarajevo CET
END:STANDARD
BEGIN:DAYLIGHT
DTSTART:20170326T030000
RDATE:20171029T020000
TZOFFSETFROM:+0100
TZOFFSETTO:+0200
TZNAME:Europe/Sarajevo CEST
END:DAYLIGHT
BEGIN:DAYLIGHT
DTSTART:20180325T030000
RDATE:20181028T020000
TZOFFSETFROM:+0100
TZOFFSETTO:+0200
TZNAME:Europe/Sarajevo CEST
END:DAYLIGHT
BEGIN:DAYLIGHT
DTSTART:20190331T030000
RDATE:20191027T020000
TZOFFSETFROM:+0100
TZOFFSETTO:+0200
TZNAME:Europe/Sarajevo CEST
END:DAYLIGHT
BEGIN:DAYLIGHT
DTSTART:20200329T030000
RDATE:20201025T020000
TZOFFSETFROM:+0100
TZOFFSETTO:+0200
TZNAME:Europe/Sarajevo CEST
END:DAYLIGHT
END:VTIMEZONE
BEGIN:VEVENT
UID:e1f6d1d247f835c14903a2f182ab84eb
CATEGORIES:Program
CREATED:20171122T154635
SUMMARY:Ne igraj na Engleze - II REPRIZA
LOCATION:Velika scena
DESCRIPTION:Na Velikoj sceni Narodnog pozorišta Mostar biće izvedena II repriza predsta
 ve “Ne igraj na Engleze” po tekstu Vladimira Đurđevića, u režiji Emira Spah
 ića.\nU predstavi igraju: Emir Sejfić, Ivan Skoko i Emir Spahić. Adaptaciju
  i dramaturgiju radio je Adnan Lugonić, a scenografiju i kostimografiju pre
 dstave Sabina Trnka.\n
CONTACT:Ova adresa el. pošte je zaštićena od spambotova. Omogućite JavaScript da biste je vidjeli.
				document.getElementById('cloak8478e3b405bd5adf85a47289c5534955').innerHTML = '';
				var prefix = '&#109;a' + 'i&#108;' + '&#116;o';
				var path = 'hr' + 'ef' + '=';
				var addy8478e3b405bd5adf85a47289c5534955 = 'm&#97;rk&#101;t&#105;ng' + '&#64;';
				addy8478e3b405bd5adf85a47289c5534955 = addy8478e3b405bd5adf85a47289c5534955 + 'npm' + '&#46;' + 'b&#97;';
				var addy_text8478e3b405bd5adf85a47289c5534955 = 'm&#97;rk&#101;t&#105;ng' + '&#64;' + 'npm' + '&#46;' + 'b&#97;';document.getElementById('cloak8478e3b405bd5adf85a47289c5534955').innerHTML += '<a ' + path + '\'' + prefix + ':' + addy8478e3b405bd5adf85a47289c5534955 + '\'>'+addy_text8478e3b405bd5adf85a47289c5534955+'';
		
X-EXTRAINFO:Ulaznice možete kupiti na blagajni Narodnog pozorišta Mostar svakim radnim 
 danom od 9 - 14 sati. Rezervacije na broj 036/550-128, e- mail: Ova adresa 
 el. pošte je zaštićena od spambotova. Omogućite JavaScript da biste je vidj
 eli.
				document.getElementById('cloakd8c68cd7318668eb9524a255251f4ac8').i
 nnerHTML = '';
				var prefix = '&#109;a' + 'i&#108;' + '&#116;o';
				var 
 path = 'hr' + 'ef' + '=';
				var addyd8c68cd7318668eb9524a255251f4ac8 = 'm
 &#97;rk&#101;t&#105;ng' + '&#64;';
				addyd8c68cd7318668eb9524a255251f4ac8
  = addyd8c68cd7318668eb9524a255251f4ac8 + 'npm' + '&#46;' + 'b&#97;';
				v
 ar addy_textd8c68cd7318668eb9524a255251f4ac8 = 'm&#97;rk&#101;t&#105;ng' + 
 '&#64;' + 'npm' + '&#46;' + 'b&#97;';document.getElementById('cloakd8c68cd7
 318668eb9524a255251f4ac8').innerHTML += '<a ' + path + '\'' + prefix + ':' 
 + addyd8c68cd7318668eb9524a255251f4ac8 + '\'>'+addy_textd8c68cd7318668eb952
 4a255251f4ac8+'';
		 i porukom u inbox na facebook stranici Narodnog pozori
 šta Mostar.
X-COLOR:#f70535
DTSTAMP:20260422T041734Z
DTSTART;TZID=Europe/Sarajevo:20171208T200000
SEQUENCE:0
TRANSP:OPAQUE
END:VEVENT
END:VCALENDAR