BEGIN:VCALENDAR
VERSION:2.0
PRODID:-//jEvents 2.0 for Joomla//EN
CALSCALE:GREGORIAN
METHOD:PUBLISH
BEGIN:VTIMEZONE
TZID:Europe/Sarajevo
BEGIN:STANDARD
DTSTART:20170208T200000
RDATE:20170326T030000
TZOFFSETFROM:+0200
TZOFFSETTO:+0100
TZNAME:Europe/Sarajevo CET
END:STANDARD
BEGIN:STANDARD
DTSTART:20171029T020000
RDATE:20180325T030000
TZOFFSETFROM:+0200
TZOFFSETTO:+0100
TZNAME:Europe/Sarajevo CET
END:STANDARD
BEGIN:STANDARD
DTSTART:20181028T020000
RDATE:20190331T030000
TZOFFSETFROM:+0200
TZOFFSETTO:+0100
TZNAME:Europe/Sarajevo CET
END:STANDARD
BEGIN:STANDARD
DTSTART:20191027T020000
RDATE:20200329T030000
TZOFFSETFROM:+0200
TZOFFSETTO:+0100
TZNAME:Europe/Sarajevo CET
END:STANDARD
BEGIN:STANDARD
DTSTART:20201025T020000
RDATE:20210328T030000
TZOFFSETFROM:+0200
TZOFFSETTO:+0100
TZNAME:Europe/Sarajevo CET
END:STANDARD
BEGIN:DAYLIGHT
DTSTART:20170326T030000
RDATE:20171029T020000
TZOFFSETFROM:+0100
TZOFFSETTO:+0200
TZNAME:Europe/Sarajevo CEST
END:DAYLIGHT
BEGIN:DAYLIGHT
DTSTART:20180325T030000
RDATE:20181028T020000
TZOFFSETFROM:+0100
TZOFFSETTO:+0200
TZNAME:Europe/Sarajevo CEST
END:DAYLIGHT
BEGIN:DAYLIGHT
DTSTART:20190331T030000
RDATE:20191027T020000
TZOFFSETFROM:+0100
TZOFFSETTO:+0200
TZNAME:Europe/Sarajevo CEST
END:DAYLIGHT
BEGIN:DAYLIGHT
DTSTART:20200329T030000
RDATE:20201025T020000
TZOFFSETFROM:+0100
TZOFFSETTO:+0200
TZNAME:Europe/Sarajevo CEST
END:DAYLIGHT
END:VTIMEZONE
BEGIN:VEVENT
UID:8197c945ae961efb7063daf094f89283
CATEGORIES:Program
CREATED:20180201T134155
SUMMARY:Ćelava pjevačica
LOCATION:Velika scena
DESCRIPTION:<p>“Ćelava pjevačica” Eugènea Ionesca u režiji Lajle Kaikčije na repertoaru
  je u petak, 9. 2. u 20 sati. “'Ćelavu pjevačicu' nazivaju komadom apsurda,
  i nigdje nije bilo logičnije postaviti to djelo kao u Mostaru, gradu punom
  apsurda. Naši likovi pričaju o raznim besmislicama, o 'senzacionalnim tema
 ma'..., a niko ne djeluje, niko ne radi, svi pričaju... Naša poruka je: 'Do
  kada ćemo pričati u prazno?'</p><p>Ovo je poziv na djelovanje. Želimo da p
 ublika prepozna sebe u samoj predstavi. Svi smo mi likovi iz predstave koji
  čekamo 'Ćelavu pjevačicu', odnosno nekoga tko će riješiti naše probleme”, 
 kaže Kaikčija.</p><p>U predstavi igraju Emir Sejfić (g. Smit) , Maja Zećo (
 gđa Smit), Emir Spahić (g. Martin), Dina Mušanović (gđa Martin), Andrea Ako
 vić (Meri) i Saša Oručević (vatrogasni kapetan). Adaptaciju i dramaturgiju 
 predstave potpisuje Adnan Lugonić, scenografiju i kostimografiju Sabina Trn
 ka.</p>
CONTACT:Ova adresa el. pošte je zaštićena od spambotova. Omogućite JavaScript da biste je vidjeli.
				document.getElementById('cloak17e8d136ac0e3053b14d1ea868d98681').innerHTML = '';
				var prefix = '&#109;a' + 'i&#108;' + '&#116;o';
				var path = 'hr' + 'ef' + '=';
				var addy17e8d136ac0e3053b14d1ea868d98681 = 'm&#97;rk&#101;t&#105;ng' + '&#64;';
				addy17e8d136ac0e3053b14d1ea868d98681 = addy17e8d136ac0e3053b14d1ea868d98681 + 'npm' + '&#46;' + 'b&#97;';
				var addy_text17e8d136ac0e3053b14d1ea868d98681 = 'm&#97;rk&#101;t&#105;ng' + '&#64;' + 'npm' + '&#46;' + 'b&#97;';document.getElementById('cloak17e8d136ac0e3053b14d1ea868d98681').innerHTML += '<a ' + path + '\'' + prefix + ':' + addy17e8d136ac0e3053b14d1ea868d98681 + '\'>'+addy_text17e8d136ac0e3053b14d1ea868d98681+'';
		
X-EXTRAINFO:Ulaznice po cijeni od 7 KM i 3,50 KM s popustom za učenike, studente i penz
 ionere su u prodaji na blagajni NPM-a svakim radnim danom od 9 do 14 sati, 
 na dan igranja predstave od 9 do 14 sati te od 18 do 20 sati; rezervacije n
 a broj 036/550-128, mail: Ova adresa el. pošte je zaštićena od spambotova. 
 Omogućite JavaScript da biste je vidjeli.
				document.getElementById('cloa
 kcb75d18afcc03b94efd28cead586d5cf').innerHTML = '';
				var prefix = '&#109
 ;a' + 'i&#108;' + '&#116;o';
				var path = 'hr' + 'ef' + '=';
				var addy
 cb75d18afcc03b94efd28cead586d5cf = 'm&#97;rk&#101;t&#105;ng' + '&#64;';
			
 	addycb75d18afcc03b94efd28cead586d5cf = addycb75d18afcc03b94efd28cead586d5c
 f + 'npm' + '&#46;' + 'b&#97;';
				var addy_textcb75d18afcc03b94efd28cead5
 86d5cf = 'm&#97;rk&#101;t&#105;ng' + '&#64;' + 'npm' + '&#46;' + 'b&#97;';d
 ocument.getElementById('cloakcb75d18afcc03b94efd28cead586d5cf').innerHTML +
 = '<a ' + path + '\'' + prefix + ':' + addycb75d18afcc03b94efd28cead586d5cf
  + '\'>'+addy_textcb75d18afcc03b94efd28cead586d5cf+'';
		, porukom u inbox 
 na Facebook stranici Narodnog pozorišta Mostar.
X-COLOR:#f50333
DTSTAMP:20260422T072028Z
DTSTART;TZID=Europe/Sarajevo:20180209T200000
DTEND;TZID=Europe/Sarajevo:20180209T210000
SEQUENCE:0
TRANSP:OPAQUE
END:VEVENT
END:VCALENDAR