BEGIN:VCALENDAR
VERSION:2.0
PRODID:-//jEvents 2.0 for Joomla//EN
CALSCALE:GREGORIAN
METHOD:PUBLISH
BEGIN:VTIMEZONE
TZID:Europe/Sarajevo
BEGIN:STANDARD
DTSTART:20171029T020000
RDATE:20180325T030000
TZOFFSETFROM:+0200
TZOFFSETTO:+0100
TZNAME:Europe/Sarajevo CET
END:STANDARD
BEGIN:STANDARD
DTSTART:20181028T020000
RDATE:20190331T030000
TZOFFSETFROM:+0200
TZOFFSETTO:+0100
TZNAME:Europe/Sarajevo CET
END:STANDARD
BEGIN:STANDARD
DTSTART:20191027T020000
RDATE:20200329T030000
TZOFFSETFROM:+0200
TZOFFSETTO:+0100
TZNAME:Europe/Sarajevo CET
END:STANDARD
BEGIN:STANDARD
DTSTART:20201025T020000
RDATE:20210328T030000
TZOFFSETFROM:+0200
TZOFFSETTO:+0100
TZNAME:Europe/Sarajevo CET
END:STANDARD
BEGIN:DAYLIGHT
DTSTART:20170421T200000
RDATE:20171029T020000
TZOFFSETFROM:+0100
TZOFFSETTO:+0200
TZNAME:Europe/Sarajevo CEST
END:DAYLIGHT
BEGIN:DAYLIGHT
DTSTART:20180325T030000
RDATE:20181028T020000
TZOFFSETFROM:+0100
TZOFFSETTO:+0200
TZNAME:Europe/Sarajevo CEST
END:DAYLIGHT
BEGIN:DAYLIGHT
DTSTART:20190331T030000
RDATE:20191027T020000
TZOFFSETFROM:+0100
TZOFFSETTO:+0200
TZNAME:Europe/Sarajevo CEST
END:DAYLIGHT
BEGIN:DAYLIGHT
DTSTART:20200329T030000
RDATE:20201025T020000
TZOFFSETFROM:+0100
TZOFFSETTO:+0200
TZNAME:Europe/Sarajevo CEST
END:DAYLIGHT
END:VTIMEZONE
BEGIN:VEVENT
UID:629d4855f981fb9d03dd445430851bc7
CATEGORIES:Program
CREATED:20180406T211355
SUMMARY:SABIRNI CENTAR
LOCATION:Velika scena
DESCRIPTION:<p>Narodno pozorište Republike Srpske, Banja Luka &amp; Pozorište Prijedor<
 /p><p>“SABIRNI CENTAR”</p><p>Autor: Dušan Kovačević</p><p>Režija: Marko Mis
 irača</p><p>...Predstava Sabirni centar po tekstu Dušana Kovačevića okupila
  nas je, u jesen 2017. godine, da udruženim snagama ispričamo svoju verziju
  ove priče. Odlučili smo da se vratimo u ne tako davnu prošlost, u Banju Lu
 ku i Krajinu 1990. godine, uoči rata u Hrvatskoj i BiH, u doba početka priv
 atizacije i pljački velikih firmi pod maskom „stimulisanja privatnog biznis
 a“, i kroz ideju profesora istorije o stvaranju Gradskog muzeja narodne rev
 olucije u želji da očuva tekovine NOB-a, lociramo kada je i kako (ponovo!) 
 počelo i kako se razvijalo ludilo na ovim prostorima...</p><p>Igraju: Đorđe
  Marković, Nataša Ivančević, Ljubiša Savanović, Slađana Zrnić, Boris Šavija
 , Miljka Brđanin, Zlatan Vidović, Bojan Kolopić, Snježana Štikić, Siniša Vu
 čićević, Aleksandar Stojković, Goran Jokić, Boško Đurđević, Dean Batoz</p>
CONTACT:Ova adresa el. pošte je zaštićena od spambotova. Omogućite JavaScript da biste je vidjeli.
				document.getElementById('cloak369f8f2739e041d2c62105f78ab21b54').innerHTML = '';
				var prefix = '&#109;a' + 'i&#108;' + '&#116;o';
				var path = 'hr' + 'ef' + '=';
				var addy369f8f2739e041d2c62105f78ab21b54 = 'm&#97;rk&#101;t&#105;ng' + '&#64;';
				addy369f8f2739e041d2c62105f78ab21b54 = addy369f8f2739e041d2c62105f78ab21b54 + 'npm' + '&#46;' + 'b&#97;';
				var addy_text369f8f2739e041d2c62105f78ab21b54 = 'm&#97;rk&#101;t&#105;ng' + '&#64;' + 'npm' + '&#46;' + 'b&#97;';document.getElementById('cloak369f8f2739e041d2c62105f78ab21b54').innerHTML += '<a ' + path + '\'' + prefix + ':' + addy369f8f2739e041d2c62105f78ab21b54 + '\'>'+addy_text369f8f2739e041d2c62105f78ab21b54+'';
		
X-EXTRAINFO:Ulaznice za sve predstave su u prodaji. Cijena ulaznice za predstavu na fes
 tivalu “Mostarska liska 2018” je 10 KM, paket ulaznica za svih osam predsta
 va u programu festivala “Mostarska liska” je 50 KM.\n\nUlaznice su u prodaj
 i na blagajni NPM-a svakim radnim danom od 9 - 14 sati. Rezervacije: na bro
 j 036/ 550 - 128, mail: Ova adresa el. pošte je zaštićena od spambotova. Om
 ogućite JavaScript da biste je vidjeli.
				document.getElementById('cloakc
 ba37c844f0fad74cd8c7c6340cd77ed').innerHTML = '';
				var prefix = '&#109;a
 ' + 'i&#108;' + '&#116;o';
				var path = 'hr' + 'ef' + '=';
				var addycb
 a37c844f0fad74cd8c7c6340cd77ed = 'm&#97;rk&#101;t&#105;ng' + '&#64;';
				a
 ddycba37c844f0fad74cd8c7c6340cd77ed = addycba37c844f0fad74cd8c7c6340cd77ed 
 + 'npm' + '&#46;' + 'b&#97;';
				var addy_textcba37c844f0fad74cd8c7c6340cd
 77ed = 'm&#97;rk&#101;t&#105;ng' + '&#64;' + 'npm' + '&#46;' + 'b&#97;';doc
 ument.getElementById('cloakcba37c844f0fad74cd8c7c6340cd77ed').innerHTML += 
 '<a ' + path + '\'' + prefix + ':' + addycba37c844f0fad74cd8c7c6340cd77ed +
  '\'>'+addy_textcba37c844f0fad74cd8c7c6340cd77ed+'';
		, porukom u inbox na
  Facebook stranici Narodnog pozorišta Mostar.
X-COLOR:#e8002e
DTSTAMP:20260422T065350Z
DTSTART;TZID=Europe/Sarajevo:20180422T200000
SEQUENCE:0
TRANSP:OPAQUE
END:VEVENT
END:VCALENDAR