BEGIN:VCALENDAR
VERSION:2.0
PRODID:-//jEvents 2.0 for Joomla//EN
CALSCALE:GREGORIAN
METHOD:PUBLISH
BEGIN:VTIMEZONE
TZID:Europe/Sarajevo
BEGIN:STANDARD
DTSTART:20171029T020000
RDATE:20180325T030000
TZOFFSETFROM:+0200
TZOFFSETTO:+0100
TZNAME:Europe/Sarajevo CET
END:STANDARD
BEGIN:STANDARD
DTSTART:20181028T020000
RDATE:20190331T030000
TZOFFSETFROM:+0200
TZOFFSETTO:+0100
TZNAME:Europe/Sarajevo CET
END:STANDARD
BEGIN:STANDARD
DTSTART:20191027T020000
RDATE:20200329T030000
TZOFFSETFROM:+0200
TZOFFSETTO:+0100
TZNAME:Europe/Sarajevo CET
END:STANDARD
BEGIN:STANDARD
DTSTART:20201025T020000
RDATE:20210328T030000
TZOFFSETFROM:+0200
TZOFFSETTO:+0100
TZNAME:Europe/Sarajevo CET
END:STANDARD
BEGIN:DAYLIGHT
DTSTART:20170424T200000
RDATE:20171029T020000
TZOFFSETFROM:+0100
TZOFFSETTO:+0200
TZNAME:Europe/Sarajevo CEST
END:DAYLIGHT
BEGIN:DAYLIGHT
DTSTART:20180325T030000
RDATE:20181028T020000
TZOFFSETFROM:+0100
TZOFFSETTO:+0200
TZNAME:Europe/Sarajevo CEST
END:DAYLIGHT
BEGIN:DAYLIGHT
DTSTART:20190331T030000
RDATE:20191027T020000
TZOFFSETFROM:+0100
TZOFFSETTO:+0200
TZNAME:Europe/Sarajevo CEST
END:DAYLIGHT
BEGIN:DAYLIGHT
DTSTART:20200329T030000
RDATE:20201025T020000
TZOFFSETFROM:+0100
TZOFFSETTO:+0200
TZNAME:Europe/Sarajevo CEST
END:DAYLIGHT
END:VTIMEZONE
BEGIN:VEVENT
UID:8768ef9ef40df3d019832e5c97756eec
CATEGORIES:Program
CREATED:20180406T211956
SUMMARY:USTAV REPUBLIKE HRVATSKE
LOCATION:Velika scena
DESCRIPTION:<p>Satiričko kazalište Kerempuh, Zagreb</p><p>“USTAV REPUBLIKE HRVATSKE”</p
 ><p>Autori: Ante Tomić i Rajko Grlić</p><p>Režija: Vinko Brešan</p><p>Profe
 sor Vjeko živi u centru Zagreba s Hrvojem, nepokretnim ocem, nekadašnjim us
 taškim časnikom. Vjekin užitak su noćne šetnje kada, odjeven kao žena, luta
  gradom. U jednoj od tih šetnji pretuče ga grupa mladića. U bolnici ga prep
 ozna Maja, medicinska sestra koja živi u podrumu njegove zgrade. Od toga tr
 enutka Maja se počne brinuti za njega i njegovog oca. Zauzvrat Vjeko Majino
 m mužu, policajcu Anti, pomogne pripremiti ispit iz Ustava Republike Hrvats
 ke... Tako počinje ova priča o ljubavi i mržnji, priča o četvero vrlo razli
 čitih ljudi koje je sudbina iznenada učinila međusobno ovisnima. Nakon veli
 kog uspjeha jednog od najhrabrijih filmova novog milenija,“Ustav Republike 
 Hrvatske” i na pozornici Satiričkoga kazališta Kerempuh...</p><p>Igraju: Bo
 rko Perić, Nikša Butijer, Ana Maras Harmander, Damir Poljičak, Matija Šakor
 onja, Vedran Mlikota / Hrvoje Kečkeš</p>
CONTACT:Ova adresa el. pošte je zaštićena od spambotova. Omogućite JavaScript da biste je vidjeli.
				document.getElementById('cloak20656bc4f0af6d0b19cb6875810322dd').innerHTML = '';
				var prefix = '&#109;a' + 'i&#108;' + '&#116;o';
				var path = 'hr' + 'ef' + '=';
				var addy20656bc4f0af6d0b19cb6875810322dd = 'm&#97;rk&#101;t&#105;ng' + '&#64;';
				addy20656bc4f0af6d0b19cb6875810322dd = addy20656bc4f0af6d0b19cb6875810322dd + 'npm' + '&#46;' + 'b&#97;';
				var addy_text20656bc4f0af6d0b19cb6875810322dd = 'm&#97;rk&#101;t&#105;ng' + '&#64;' + 'npm' + '&#46;' + 'b&#97;';document.getElementById('cloak20656bc4f0af6d0b19cb6875810322dd').innerHTML += '<a ' + path + '\'' + prefix + ':' + addy20656bc4f0af6d0b19cb6875810322dd + '\'>'+addy_text20656bc4f0af6d0b19cb6875810322dd+'';
		
X-EXTRAINFO:Ulaznice su u prodaji na blagajni NPM-a svakim radnim danom od 9 - 14 sati.
  Rezervacije: na broj 036/ 550 - 128, mail: Ova adresa el. pošte je zaštiće
 na od spambotova. Omogućite JavaScript da biste je vidjeli.
				document.ge
 tElementById('cloak8673b902bfef956a18fe8a5eb5e3dfe2').innerHTML = '';
				v
 ar prefix = '&#109;a' + 'i&#108;' + '&#116;o';
				var path = 'hr' + 'ef' +
  '=';
				var addy8673b902bfef956a18fe8a5eb5e3dfe2 = 'm&#97;rk&#101;t&#105;
 ng' + '&#64;';
				addy8673b902bfef956a18fe8a5eb5e3dfe2 = addy8673b902bfef9
 56a18fe8a5eb5e3dfe2 + 'npm' + '&#46;' + 'b&#97;';
				var addy_text8673b902
 bfef956a18fe8a5eb5e3dfe2 = 'm&#97;rk&#101;t&#105;ng' + '&#64;' + 'npm' + '&
 #46;' + 'b&#97;';document.getElementById('cloak8673b902bfef956a18fe8a5eb5e3
 dfe2').innerHTML += '<a ' + path + '\'' + prefix + ':' + addy8673b902bfef95
 6a18fe8a5eb5e3dfe2 + '\'>'+addy_text8673b902bfef956a18fe8a5eb5e3dfe2+'';
		
 , porukom u inbox na Facebook stranici Narodnog pozorišta Mostar.
X-COLOR:#e8002e
DTSTAMP:20260422T065513Z
DTSTART;TZID=Europe/Sarajevo:20180425T200000
SEQUENCE:0
TRANSP:OPAQUE
END:VEVENT
END:VCALENDAR