BEGIN:VCALENDAR
VERSION:2.0
PRODID:-//jEvents 2.0 for Joomla//EN
CALSCALE:GREGORIAN
METHOD:PUBLISH
BEGIN:VTIMEZONE
TZID:Europe/Sarajevo
BEGIN:STANDARD
DTSTART:20171029T020000
RDATE:20180325T030000
TZOFFSETFROM:+0200
TZOFFSETTO:+0100
TZNAME:Europe/Sarajevo CET
END:STANDARD
BEGIN:STANDARD
DTSTART:20181028T020000
RDATE:20190331T030000
TZOFFSETFROM:+0200
TZOFFSETTO:+0100
TZNAME:Europe/Sarajevo CET
END:STANDARD
BEGIN:STANDARD
DTSTART:20191027T020000
RDATE:20200329T030000
TZOFFSETFROM:+0200
TZOFFSETTO:+0100
TZNAME:Europe/Sarajevo CET
END:STANDARD
BEGIN:STANDARD
DTSTART:20201025T020000
RDATE:20210328T030000
TZOFFSETFROM:+0200
TZOFFSETTO:+0100
TZNAME:Europe/Sarajevo CET
END:STANDARD
BEGIN:DAYLIGHT
DTSTART:20170425T200000
RDATE:20171029T020000
TZOFFSETFROM:+0100
TZOFFSETTO:+0200
TZNAME:Europe/Sarajevo CEST
END:DAYLIGHT
BEGIN:DAYLIGHT
DTSTART:20180325T030000
RDATE:20181028T020000
TZOFFSETFROM:+0100
TZOFFSETTO:+0200
TZNAME:Europe/Sarajevo CEST
END:DAYLIGHT
BEGIN:DAYLIGHT
DTSTART:20190331T030000
RDATE:20191027T020000
TZOFFSETFROM:+0100
TZOFFSETTO:+0200
TZNAME:Europe/Sarajevo CEST
END:DAYLIGHT
BEGIN:DAYLIGHT
DTSTART:20200329T030000
RDATE:20201025T020000
TZOFFSETFROM:+0100
TZOFFSETTO:+0200
TZNAME:Europe/Sarajevo CEST
END:DAYLIGHT
END:VTIMEZONE
BEGIN:VEVENT
UID:a1d12dece545a0f17686c1dd56535ce0
CATEGORIES:Program
CREATED:20180406T212637
SUMMARY:SIRENA I VIKTORIJA
LOCATION:Velika scena
DESCRIPTION:<p>“Ferzeng”, Beograd</p><p>“SIRENA I VIKTORIJA”</p><p>Autor: Aleksandar Ga
 lin</p><p>Režija: Radoslav Milenković</p><p>Novopečena bogatašica, naizgled
  pobjednica tranzicijskog maratona, za svoju profesoricu engleskog, inače t
 ipičnu žrtvu društvene tranzicije, naručuje Pastuva koji za novac “ispunjav
 a sve seksualne fantazije”, ali greškom bira pogrešan broj i umesto seksual
 nog predatora u stan im stiže – vremešni astronom koji urušavanje idealisti
 čki ustrojstva svijeta preživljava radeći po kućama kao stilista-kinolog...
  Niz komičnih nesporazuma odigrava se među troje junaka Galinove komedije, 
 koja nas, smijehom razoružane, suočava sa vjerovatno najvažnijim htijenjem 
 ljudske vrste: da volimo i da budemo voljeni. Igraju: Tatjana Kecman, Milen
 a Pavlović, Radoslav Milenković</p>
CONTACT:Ova adresa el. pošte je zaštićena od spambotova. Omogućite JavaScript da biste je vidjeli.
				document.getElementById('cloak52e8cbf1ce306982e974ed393ce06d42').innerHTML = '';
				var prefix = '&#109;a' + 'i&#108;' + '&#116;o';
				var path = 'hr' + 'ef' + '=';
				var addy52e8cbf1ce306982e974ed393ce06d42 = 'm&#97;rk&#101;t&#105;ng' + '&#64;';
				addy52e8cbf1ce306982e974ed393ce06d42 = addy52e8cbf1ce306982e974ed393ce06d42 + 'npm' + '&#46;' + 'b&#97;';
				var addy_text52e8cbf1ce306982e974ed393ce06d42 = 'm&#97;rk&#101;t&#105;ng' + '&#64;' + 'npm' + '&#46;' + 'b&#97;';document.getElementById('cloak52e8cbf1ce306982e974ed393ce06d42').innerHTML += '<a ' + path + '\'' + prefix + ':' + addy52e8cbf1ce306982e974ed393ce06d42 + '\'>'+addy_text52e8cbf1ce306982e974ed393ce06d42+'';
		
X-EXTRAINFO:Ulaznice za sve predstave su u prodaji. Cijena ulaznice za predstavu na fes
 tivalu “Mostarska liska 2018” je 10 KM, paket ulaznica za svih osam predsta
 va u programu festivala “Mostarska liska” je 50 KM.\n\nUlaznice su u prodaj
 i na blagajni NPM-a svakim radnim danom od 9 - 14 sati. Rezervacije: na bro
 j 036/ 550 - 128, mail: Ova adresa el. pošte je zaštićena od spambotova. Om
 ogućite JavaScript da biste je vidjeli.
				document.getElementById('cloak9
 67e00523a1d3cca00b1a07de90f8aa6').innerHTML = '';
				var prefix = '&#109;a
 ' + 'i&#108;' + '&#116;o';
				var path = 'hr' + 'ef' + '=';
				var addy96
 7e00523a1d3cca00b1a07de90f8aa6 = 'm&#97;rk&#101;t&#105;ng' + '&#64;';
				a
 ddy967e00523a1d3cca00b1a07de90f8aa6 = addy967e00523a1d3cca00b1a07de90f8aa6 
 + 'npm' + '&#46;' + 'b&#97;';
				var addy_text967e00523a1d3cca00b1a07de90f
 8aa6 = 'm&#97;rk&#101;t&#105;ng' + '&#64;' + 'npm' + '&#46;' + 'b&#97;';doc
 ument.getElementById('cloak967e00523a1d3cca00b1a07de90f8aa6').innerHTML += 
 '<a ' + path + '\'' + prefix + ':' + addy967e00523a1d3cca00b1a07de90f8aa6 +
  '\'>'+addy_text967e00523a1d3cca00b1a07de90f8aa6+'';
		, porukom u inbox na
  Facebook stranici Narodnog pozorišta Mostar.
X-COLOR:#f50535
DTSTAMP:20260422T062211Z
DTSTART;TZID=Europe/Sarajevo:20180426T200000
SEQUENCE:0
TRANSP:OPAQUE
END:VEVENT
END:VCALENDAR