BEGIN:VCALENDAR
VERSION:2.0
PRODID:-//jEvents 2.0 for Joomla//EN
CALSCALE:GREGORIAN
METHOD:PUBLISH
BEGIN:VTIMEZONE
TZID:Europe/Sarajevo
BEGIN:STANDARD
DTSTART:20171029T020000
RDATE:20180325T030000
TZOFFSETFROM:+0200
TZOFFSETTO:+0100
TZNAME:Europe/Sarajevo CET
END:STANDARD
BEGIN:STANDARD
DTSTART:20181028T020000
RDATE:20190331T030000
TZOFFSETFROM:+0200
TZOFFSETTO:+0100
TZNAME:Europe/Sarajevo CET
END:STANDARD
BEGIN:STANDARD
DTSTART:20191027T020000
RDATE:20200329T030000
TZOFFSETFROM:+0200
TZOFFSETTO:+0100
TZNAME:Europe/Sarajevo CET
END:STANDARD
BEGIN:STANDARD
DTSTART:20201025T020000
RDATE:20210328T030000
TZOFFSETFROM:+0200
TZOFFSETTO:+0100
TZNAME:Europe/Sarajevo CET
END:STANDARD
BEGIN:DAYLIGHT
DTSTART:20170413T200000
RDATE:20171029T020000
TZOFFSETFROM:+0100
TZOFFSETTO:+0200
TZNAME:Europe/Sarajevo CEST
END:DAYLIGHT
BEGIN:DAYLIGHT
DTSTART:20180325T030000
RDATE:20181028T020000
TZOFFSETFROM:+0100
TZOFFSETTO:+0200
TZNAME:Europe/Sarajevo CEST
END:DAYLIGHT
BEGIN:DAYLIGHT
DTSTART:20190331T030000
RDATE:20191027T020000
TZOFFSETFROM:+0100
TZOFFSETTO:+0200
TZNAME:Europe/Sarajevo CEST
END:DAYLIGHT
BEGIN:DAYLIGHT
DTSTART:20200329T030000
RDATE:20201025T020000
TZOFFSETFROM:+0100
TZOFFSETTO:+0200
TZNAME:Europe/Sarajevo CEST
END:DAYLIGHT
END:VTIMEZONE
BEGIN:VEVENT
UID:407e7cf2b7e5c3e0de1096d627487516
CATEGORIES:Program
CREATED:20180412T123223
SUMMARY:Neće biti smak svijeta
LOCATION:Studiju 64
DESCRIPTION:<p>Predstava “Neće biti smak svijeta” nastala je po tekstu i u režiji Adnan
 a Lugonića koji potpisuje i dramaturgiju. Scenografiju i kostimografiju pre
 dstave radila je Sabina Trnka, a u predstavi igraju Ajla Hamzić, Dina Mušan
 ović i Šerif Aljić.</p>
CONTACT:Ova adresa el. pošte je zaštićena od spambotova. Omogućite JavaScript da biste je vidjeli.
				document.getElementById('cloak2bb58b8e3f4225591fecc28291d7baa5').innerHTML = '';
				var prefix = '&#109;a' + 'i&#108;' + '&#116;o';
				var path = 'hr' + 'ef' + '=';
				var addy2bb58b8e3f4225591fecc28291d7baa5 = 'm&#97;rk&#101;t&#105;ng' + '&#64;';
				addy2bb58b8e3f4225591fecc28291d7baa5 = addy2bb58b8e3f4225591fecc28291d7baa5 + 'npm' + '&#46;' + 'b&#97;';
				var addy_text2bb58b8e3f4225591fecc28291d7baa5 = 'm&#97;rk&#101;t&#105;ng' + '&#64;' + 'npm' + '&#46;' + 'b&#97;';document.getElementById('cloak2bb58b8e3f4225591fecc28291d7baa5').innerHTML += '<a ' + path + '\'' + prefix + ':' + addy2bb58b8e3f4225591fecc28291d7baa5 + '\'>'+addy_text2bb58b8e3f4225591fecc28291d7baa5+'';
		
X-EXTRAINFO:Ulaznice su u prodaji na blagajni NPM-a svakim radnim danom od 9 - 14 sati,
  na dan igranja predstave od 9 do 14 sati te od 18 do 20 sati. Rezervacije:
  na broj 036/550-128, mail: Ova adresa el. pošte je zaštićena od spambotova
 . Omogućite JavaScript da biste je vidjeli.
				document.getElementById('cl
 oak2e4825eb6aebcdab06ea49cf1c599324').innerHTML = '';
				var prefix = '&#1
 09;a' + 'i&#108;' + '&#116;o';
				var path = 'hr' + 'ef' + '=';
				var ad
 dy2e4825eb6aebcdab06ea49cf1c599324 = 'm&#97;rk&#101;t&#105;ng' + '&#64;';
	
 			addy2e4825eb6aebcdab06ea49cf1c599324 = addy2e4825eb6aebcdab06ea49cf1c599
 324 + 'npm' + '&#46;' + 'b&#97;';
				var addy_text2e4825eb6aebcdab06ea49cf
 1c599324 = 'm&#97;rk&#101;t&#105;ng' + '&#64;' + 'npm' + '&#46;' + 'b&#97;'
 ;document.getElementById('cloak2e4825eb6aebcdab06ea49cf1c599324').innerHTML
  += '<a ' + path + '\'' + prefix + ':' + addy2e4825eb6aebcdab06ea49cf1c5993
 24 + '\'>'+addy_text2e4825eb6aebcdab06ea49cf1c599324+'';
		, porukom u inbo
 x na Facebook stranici Narodnog pozorišta Mostar.
X-COLOR:#f00030
DTSTAMP:20260422T063026Z
DTSTART;TZID=Europe/Sarajevo:20180414T200000
DTEND;TZID=Europe/Sarajevo:20180414T210000
SEQUENCE:0
TRANSP:OPAQUE
END:VEVENT
END:VCALENDAR