BEGIN:VCALENDAR
VERSION:2.0
PRODID:-//jEvents 2.0 for Joomla//EN
CALSCALE:GREGORIAN
METHOD:PUBLISH
BEGIN:VTIMEZONE
TZID:Europe/Sarajevo
BEGIN:STANDARD
DTSTART:20171029T020000
RDATE:20180325T030000
TZOFFSETFROM:+0200
TZOFFSETTO:+0100
TZNAME:Europe/Sarajevo CET
END:STANDARD
BEGIN:STANDARD
DTSTART:20181028T020000
RDATE:20190331T030000
TZOFFSETFROM:+0200
TZOFFSETTO:+0100
TZNAME:Europe/Sarajevo CET
END:STANDARD
BEGIN:STANDARD
DTSTART:20191027T020000
RDATE:20200329T030000
TZOFFSETFROM:+0200
TZOFFSETTO:+0100
TZNAME:Europe/Sarajevo CET
END:STANDARD
BEGIN:STANDARD
DTSTART:20201025T020000
RDATE:20210328T030000
TZOFFSETFROM:+0200
TZOFFSETTO:+0100
TZNAME:Europe/Sarajevo CET
END:STANDARD
BEGIN:DAYLIGHT
DTSTART:20170928T200000
RDATE:20171029T020000
TZOFFSETFROM:+0100
TZOFFSETTO:+0200
TZNAME:Europe/Sarajevo CEST
END:DAYLIGHT
BEGIN:DAYLIGHT
DTSTART:20180325T030000
RDATE:20181028T020000
TZOFFSETFROM:+0100
TZOFFSETTO:+0200
TZNAME:Europe/Sarajevo CEST
END:DAYLIGHT
BEGIN:DAYLIGHT
DTSTART:20190331T030000
RDATE:20191027T020000
TZOFFSETFROM:+0100
TZOFFSETTO:+0200
TZNAME:Europe/Sarajevo CEST
END:DAYLIGHT
BEGIN:DAYLIGHT
DTSTART:20200329T030000
RDATE:20201025T020000
TZOFFSETFROM:+0100
TZOFFSETTO:+0200
TZNAME:Europe/Sarajevo CEST
END:DAYLIGHT
END:VTIMEZONE
BEGIN:VEVENT
UID:8b46965c602b88b5a060fd558cd831fe
CATEGORIES:Program
CREATED:20180921T124253
SUMMARY:BH Broadway Mjuzikl
LOCATION:Velika scena
DESCRIPTION:<p>Na sceni Narodnog pozorišta publiku očekuje prava pozorišna poslastica, 
 gdje ćemo u saradnji sa Ambasadom Sjedinjenih Američkih Država u BiH ugosti
 ti brodvejski hit mjuzikl "25. Takmičenje u spelovanju u Okrugu Putnam" u i
 zvođenju 16 mladih bh.</p><p>Produkcijski tim predvode Aaron Thielen, umjet
 nički direktor prestižnog čikaškog Marriott teatra i Ryan T. Nelson, profes
 or na Northwestern University i muzički direktor Marriott teatra.</p><p>U p
 redstavi igraju: Faris Pinjo, Nikolina Vujić, Šejla Grgić, Tijana Jovanović
 , Marko Mirković, Lamija Čeljo, Mak Čengić, Nemanja Bajić, Srđan Knjeginjić
 , Lea Sekulić, Sanjin Arnautović, Ana-Marija Tomić, Jelena Jandrić, Duje Ma
 rtinić, Darko Stojić i Sara Ristić.</p>
CONTACT:Ova adresa el. pošte je zaštićena od spambotova. Omogućite JavaScript da biste je vidjeli.
				document.getElementById('cloak5e125608c31e3771eaa2138a4000e561').innerHTML = '';
				var prefix = '&#109;a' + 'i&#108;' + '&#116;o';
				var path = 'hr' + 'ef' + '=';
				var addy5e125608c31e3771eaa2138a4000e561 = 'm&#97;rk&#101;t&#105;ng' + '&#64;';
				addy5e125608c31e3771eaa2138a4000e561 = addy5e125608c31e3771eaa2138a4000e561 + 'npm' + '&#46;' + 'b&#97;';
				var addy_text5e125608c31e3771eaa2138a4000e561 = 'm&#97;rk&#101;t&#105;ng' + '&#64;' + 'npm' + '&#46;' + 'b&#97;';document.getElementById('cloak5e125608c31e3771eaa2138a4000e561').innerHTML += '<a ' + path + '\'' + prefix + ':' + addy5e125608c31e3771eaa2138a4000e561 + '\'>'+addy_text5e125608c31e3771eaa2138a4000e561+'';
		
X-EXTRAINFO:Ulaznice možete kupiti na blagajni Narodnog pozorišta Mostar svakim radnim 
 danom od 9 - 14 sati. Rezervacije na broj 036/550-128, e- mail: Ova adresa 
 el. pošte je zaštićena od spambotova. Omogućite JavaScript da biste je vidj
 eli.
				document.getElementById('cloak88fb7fe32e26be6f989cd9c0dcbc77e1').i
 nnerHTML = '';
				var prefix = '&#109;a' + 'i&#108;' + '&#116;o';
				var 
 path = 'hr' + 'ef' + '=';
				var addy88fb7fe32e26be6f989cd9c0dcbc77e1 = 'm
 &#97;rk&#101;t&#105;ng' + '&#64;';
				addy88fb7fe32e26be6f989cd9c0dcbc77e1
  = addy88fb7fe32e26be6f989cd9c0dcbc77e1 + 'npm' + '&#46;' + 'b&#97;';
				v
 ar addy_text88fb7fe32e26be6f989cd9c0dcbc77e1 = 'm&#97;rk&#101;t&#105;ng' + 
 '&#64;' + 'npm' + '&#46;' + 'b&#97;';document.getElementById('cloak88fb7fe3
 2e26be6f989cd9c0dcbc77e1').innerHTML += '<a ' + path + '\'' + prefix + ':' 
 + addy88fb7fe32e26be6f989cd9c0dcbc77e1 + '\'>'+addy_text88fb7fe32e26be6f989
 cd9c0dcbc77e1+'';
		 i porukom u inbox na facebook stranici Narodnog pozori
 šta Mostar. Na dan igranja predstave blagajna je otvorena od 9 do 14 sati t
 e od 18 do 20 sati.
X-COLOR:#f70838
DTSTAMP:20260421T225059Z
DTSTART;TZID=Europe/Sarajevo:20180929T200000
DTEND;TZID=Europe/Sarajevo:20180929T210000
SEQUENCE:0
TRANSP:OPAQUE
END:VEVENT
END:VCALENDAR