BEGIN:VCALENDAR
VERSION:2.0
PRODID:-//jEvents 2.0 for Joomla//EN
CALSCALE:GREGORIAN
METHOD:PUBLISH
BEGIN:VTIMEZONE
TZID:Europe/Sarajevo
BEGIN:STANDARD
DTSTART:20181028T020000
RDATE:20190331T030000
TZOFFSETFROM:+0200
TZOFFSETTO:+0100
TZNAME:Europe/Sarajevo CET
END:STANDARD
BEGIN:STANDARD
DTSTART:20191027T020000
RDATE:20200329T030000
TZOFFSETFROM:+0200
TZOFFSETTO:+0100
TZNAME:Europe/Sarajevo CET
END:STANDARD
BEGIN:STANDARD
DTSTART:20201025T020000
RDATE:20210328T030000
TZOFFSETFROM:+0200
TZOFFSETTO:+0100
TZNAME:Europe/Sarajevo CET
END:STANDARD
BEGIN:DAYLIGHT
DTSTART:20180404T200000
RDATE:20181028T020000
TZOFFSETFROM:+0100
TZOFFSETTO:+0200
TZNAME:Europe/Sarajevo CEST
END:DAYLIGHT
BEGIN:DAYLIGHT
DTSTART:20190331T030000
RDATE:20191027T020000
TZOFFSETFROM:+0100
TZOFFSETTO:+0200
TZNAME:Europe/Sarajevo CEST
END:DAYLIGHT
BEGIN:DAYLIGHT
DTSTART:20200329T030000
RDATE:20201025T020000
TZOFFSETFROM:+0100
TZOFFSETTO:+0200
TZNAME:Europe/Sarajevo CEST
END:DAYLIGHT
END:VTIMEZONE
BEGIN:VEVENT
UID:6ced337785201468e75ef2c0cd6752ae
CATEGORIES:Program
CREATED:20190401T131241
SUMMARY:Anđeli Babilona
LOCATION:Velika scena
DESCRIPTION:<p>Predstava „Anđeli Babilona“ Mate Matišića, u režiji Admira Glamočaka pro
 pituje duboke intimne granice do kojih smo kao pojedinci spremni ići kako b
 i izbjegli direktnu konfrontaciju sa nadređenim autoritetima, odnosno, koja
  je cijena našeg konformizma? Jesmo li spremni odreći se sebe zarad pozicij
 e i fabriciranog ugleda u društvu? Da li je to vrijedno? Razmišljamo li, pr
 i tome, o sebi i pravim vrijednostima života mnogo važnijim od pozicije i u
 gleda? Interesantna, uzbudljiva i energična komedija koja na ironičan i duh
 ovit način prikazuje ono sa čime se, zapravo, svakodnevno susrećemo i suoča
 vamo. Tema izrazito aktuelna danas.</p><p>Igraju: Admir Glamočak, Ajla Hamz
 ić, Emir Sejfić, Emir Spahić, Jasmin Krpo, Amela Kreso, Mirsad Elezi</p>
CONTACT:Ova adresa el. pošte je zaštićena od spambotova. Omogućite JavaScript da biste je vidjeli.
				document.getElementById('cloake19f41af6819a3357f990a88fd0d7eb2').innerHTML = '';
				var prefix = '&#109;a' + 'i&#108;' + '&#116;o';
				var path = 'hr' + 'ef' + '=';
				var addye19f41af6819a3357f990a88fd0d7eb2 = 'm&#97;rk&#101;t&#105;ng' + '&#64;';
				addye19f41af6819a3357f990a88fd0d7eb2 = addye19f41af6819a3357f990a88fd0d7eb2 + 'npm' + '&#46;' + 'b&#97;';
				var addy_texte19f41af6819a3357f990a88fd0d7eb2 = 'm&#97;rk&#101;t&#105;ng' + '&#64;' + 'npm' + '&#46;' + 'b&#97;';document.getElementById('cloake19f41af6819a3357f990a88fd0d7eb2').innerHTML += '<a ' + path + '\'' + prefix + ':' + addye19f41af6819a3357f990a88fd0d7eb2 + '\'>'+addy_texte19f41af6819a3357f990a88fd0d7eb2+'';
		
X-EXTRAINFO:Cijena ulaznice je 7 KM, s popustom za učenike, studente i penzionere 3,50 
 KM.
X-COLOR:#f00030
DTSTAMP:20260422T065344Z
DTSTART;TZID=Europe/Sarajevo:20190405T200000
DTEND;TZID=Europe/Sarajevo:20190405T210000
SEQUENCE:0
TRANSP:OPAQUE
END:VEVENT
END:VCALENDAR