BEGIN:VCALENDAR
VERSION:2.0
PRODID:-//jEvents 2.0 for Joomla//EN
CALSCALE:GREGORIAN
METHOD:PUBLISH
BEGIN:VTIMEZONE
TZID:Europe/Sarajevo
BEGIN:STANDARD
DTSTART:20181028T020000
RDATE:20190331T030000
TZOFFSETFROM:+0200
TZOFFSETTO:+0100
TZNAME:Europe/Sarajevo CET
END:STANDARD
BEGIN:STANDARD
DTSTART:20191027T020000
RDATE:20200329T030000
TZOFFSETFROM:+0200
TZOFFSETTO:+0100
TZNAME:Europe/Sarajevo CET
END:STANDARD
BEGIN:STANDARD
DTSTART:20201025T020000
RDATE:20210328T030000
TZOFFSETFROM:+0200
TZOFFSETTO:+0100
TZNAME:Europe/Sarajevo CET
END:STANDARD
BEGIN:DAYLIGHT
DTSTART:20180419T200000
RDATE:20181028T020000
TZOFFSETFROM:+0100
TZOFFSETTO:+0200
TZNAME:Europe/Sarajevo CEST
END:DAYLIGHT
BEGIN:DAYLIGHT
DTSTART:20190331T030000
RDATE:20191027T020000
TZOFFSETFROM:+0100
TZOFFSETTO:+0200
TZNAME:Europe/Sarajevo CEST
END:DAYLIGHT
BEGIN:DAYLIGHT
DTSTART:20200329T030000
RDATE:20201025T020000
TZOFFSETFROM:+0100
TZOFFSETTO:+0200
TZNAME:Europe/Sarajevo CEST
END:DAYLIGHT
END:VTIMEZONE
BEGIN:VEVENT
UID:fa1cdd880149f80ccbdb0bcf73f1ea98
CATEGORIES:Program
CREATED:20190409T151007
SUMMARY:Zašto je poludeo gospodin R?
LOCATION:Velika scena
DESCRIPTION:<p>Drugu veče 16. MFK „Mostarska liska 2019“, u subotu, 20.04., nastupaju g
 osti iz Srbije, tačnije Jugoslovensko dramsko pozorište iz Beograda, čiji ć
 e ansambl odigrati predstavu „Zašto je poludeo gospodin R?“, Rajnera Verner
 a Fasbindera i Mihaela Fenglera, u režiji Bobe Jelčića.</p><p>„Stroj uzleta
  melje pojedinca. Fasbinder se buni protiv nehumanog napretka. Nama je bliz
 ak ovaj film, u vrijeme dok mi u našim zemljama koje su nastale poslije rat
 a ili u vrijeme rata, nastojimo (mada ja ne volim tu vrstu analogija) prika
 čiti se za bolji život koji nam nudi EU ili neko drugo tijelo, kad naši pol
 itičari konstantno govore o 4,0 % napretka, povjećanju BDP-a. Ako pratite v
 ijesti, najčešće su rečenice o jednom fiktivnom porastu BDP-a, koji se onda
  preliva na porast plaća, penzija, sugerira se svim sredstvima ekonomska st
 abilnost, jedan napredak, suficit sredstava koje imamo, zapravo, jedna bolj
 a budućnost. Pritom, ostale su u pojedincima traume od rata i ne samo od ra
 ta, a one traju. One ne prate uzlet koji je ipak fiktivno ukucan u naš medi
 jskiprostor. U tom smislu, zanima me što je intima u okviru jedne deklarati
 vno političke situacije koja ne dopušta intimi da bude intima, koja se infi
 cira svime pomenutim, pa se preljeva na nekakvu socio-psihološku stabilnost
  pojedinca. I pojedinac je u stanju, ili može doći u stanje frustracije, ne
 zadovoljstva, pa i amoka. O tome se ovdje i radi.“, istakao je o predstavi 
 reditelj Bobo Jelčić. (izvod iz intervjua za program predstave „Zašto je po
 ludeo gospodin R.?“)</p><p><strong>Lica:</strong></p><p><em>Gospodin R. - <
 /em> BORIS ISAKOVIĆ</p><p><em>Gospođa R. -  </em>NATAŠA TAPUŠKOVIĆ</p><p><e
 m>Šef -</em>  BRANKO CVEJIĆ</p><p><em>Hana </em>- DUBRAVKA KOVJANIĆ</p><p><
 em>Kolega 1</em> - MILAN MARIĆ</p><p><em>Kolega 2</em> - BOJAN DIMITRIJEVIĆ
 </p><p><em>Komšinica</em> - JELENA STUPLJANIN</p><p><em>Baka R.</em> -  VES
 NA ČIPČIĆ</p><p><em>Deda R.</em> - FEĐA STOJANOVIĆ</p><p><em>Amadeus, sin</
 em> - PAVLE KORAĆ</p><p><em>Saradnik</em> - RADE STOJILJKOVIĆ</p>
CONTACT:Ova adresa el. pošte je zaštićena od spambotova. Omogućite JavaScript da biste je vidjeli.
				document.getElementById('cloakf8e40e81310a1249bec2bf1e75d0a25b').innerHTML = '';
				var prefix = '&#109;a' + 'i&#108;' + '&#116;o';
				var path = 'hr' + 'ef' + '=';
				var addyf8e40e81310a1249bec2bf1e75d0a25b = 'm&#97;rk&#101;t&#105;ng' + '&#64;';
				addyf8e40e81310a1249bec2bf1e75d0a25b = addyf8e40e81310a1249bec2bf1e75d0a25b + 'npm' + '&#46;' + 'b&#97;';
				var addy_textf8e40e81310a1249bec2bf1e75d0a25b = 'm&#97;rk&#101;t&#105;ng' + '&#64;' + 'npm' + '&#46;' + 'b&#97;';document.getElementById('cloakf8e40e81310a1249bec2bf1e75d0a25b').innerHTML += '<a ' + path + '\'' + prefix + ':' + addyf8e40e81310a1249bec2bf1e75d0a25b + '\'>'+addy_textf8e40e81310a1249bec2bf1e75d0a25b+'';
		
X-EXTRAINFO:Ulaznice su u prodaji na blagajni NPM-a svakim danom od 9 - 14 sati. Cijena
  ulaznice za sve programe iznosi 10 KM, a dostupni su i paketi ulaznica po 
 cijeni od 50 KM koji podrazumijevaju jednu ulaznicu za sve izvedbe u trajan
 ju Festivala. REZERVACIJE: na broj 036/550-128, mail: Ova adresa el. pošte 
 je zaštićena od spambotova. Omogućite JavaScript da biste je vidjeli.
				d
 ocument.getElementById('cloakc62489d68f0b263390f366b34ed13a63').innerHTML =
  '';
				var prefix = '&#109;a' + 'i&#108;' + '&#116;o';
				var path = 'hr
 ' + 'ef' + '=';
				var addyc62489d68f0b263390f366b34ed13a63 = 'm&#97;rk&#1
 01;t&#105;ng' + '&#64;';
				addyc62489d68f0b263390f366b34ed13a63 = addyc62
 489d68f0b263390f366b34ed13a63 + 'npm' + '&#46;' + 'b&#97;';
				var addy_te
 xtc62489d68f0b263390f366b34ed13a63 = 'm&#97;rk&#101;t&#105;ng' + '&#64;' + 
 'npm' + '&#46;' + 'b&#97;';document.getElementById('cloakc62489d68f0b263390
 f366b34ed13a63').innerHTML += '<a ' + path + '\'' + prefix + ':' + addyc624
 89d68f0b263390f366b34ed13a63 + '\'>'+addy_textc62489d68f0b263390f366b34ed13
 a63+'';
		, ili porukom u inbox.
DTSTAMP:20260422T042603Z
DTSTART;TZID=Europe/Sarajevo:20190420T200000
DTEND;TZID=Europe/Sarajevo:20190420T210000
SEQUENCE:0
TRANSP:OPAQUE
END:VEVENT
END:VCALENDAR