BEGIN:VCALENDAR
VERSION:2.0
PRODID:-//jEvents 2.0 for Joomla//EN
CALSCALE:GREGORIAN
METHOD:PUBLISH
BEGIN:VTIMEZONE
TZID:Europe/Sarajevo
END:VTIMEZONE
BEGIN:VEVENT
UID:5c644f2ab1ceefa7c43021b852fcc392
CATEGORIES:Program
CREATED:20230516T204122
SUMMARY:Djelidba
LOCATION:Velika scena
DESCRIPTION:Kamerni teatar 55 Sarajevo\nSezona: 2022/2023.\nPo motivima Skendera Kuleno
 vića\nAdaptacija i režija: Aleš Kurt\nDramaturgija: Vedran Fajković\nScenog
 rafija i kostimografija: Adisa Vatreš Selimović\nAsistentica na scenografij
 i i kostimografiji: Monika Močević\nScenski pokret: Amila Terzimehić\nInspi
 cijent: Radomir Jagličić\nFotografija: Dženat Dreković\nIgraju: Gordana Bob
 an, Vanesa Glođo, Sabit Sejdinović, Amar Selimović, Senad Alihodžić, Davor 
 Golubović, Dina Mušanović, Elma Juković, Amar Čustović i Enes Kozličić\nBli
 ska budućnost.\nNakon petog svjetskog rata u jednom zabačenom dijelu Bosne 
 i Hercegovine ljudi čekaju pomoć. Sprema se djelidba.\nSamo ako omogućimo d
 a se u mišljenju o Bosancima i Hercegovcima pokaže sam predmet mišljenja im
 at ćemo jasniju percepciju ko su Bosanci.\nKakav je to narod? U skladu sa t
 im shvatanjem stoji i naš poziv publici da se usmjeri „ka samim stvarima!“.
 \nMaterijale za fundamentalni opis „samih stvari“ nalazimo u komadu Djelidb
 a.\nEsenciju o tom narodu ne možemo dobiti kao rezultat empirijskog israživ
 anja.\nTo mora biti poetski čin koji predmetu mišljenja ne dodaje ništa nov
 o, već mu omogućuje da se on pokaže u našoj svijesti u svom suštinskom obli
 ku.\n\n\n
CONTACT:Ova adresa el. pošte je zaštićena od spambotova. Omogućite JavaScript da biste je vidjeli.
				document.getElementById('cloakb69f5195bd92457cd131728aacec3615').innerHTML = '';
				var prefix = '&#109;a' + 'i&#108;' + '&#116;o';
				var path = 'hr' + 'ef' + '=';
				var addyb69f5195bd92457cd131728aacec3615 = 'm&#97;rk&#101;t&#105;ng' + '&#64;';
				addyb69f5195bd92457cd131728aacec3615 = addyb69f5195bd92457cd131728aacec3615 + 'npm' + '&#46;' + 'b&#97;';
				var addy_textb69f5195bd92457cd131728aacec3615 = 'm&#97;rk&#101;t&#105;ng' + '&#64;' + 'npm' + '&#46;' + 'b&#97;';document.getElementById('cloakb69f5195bd92457cd131728aacec3615').innerHTML += '<a ' + path + '\'' + prefix + ':' + addyb69f5195bd92457cd131728aacec3615 + '\'>'+addy_textb69f5195bd92457cd131728aacec3615+'';
		
DTSTAMP:20260421T222418Z
DTSTART;TZID=Europe/Sarajevo:20230521T200000
DTEND;TZID=Europe/Sarajevo:20230521T210000
SEQUENCE:0
TRANSP:OPAQUE
END:VEVENT
END:VCALENDAR