BEGIN:VCALENDAR
VERSION:2.0
PRODID:-//jEvents 2.0 for Joomla//EN
CALSCALE:GREGORIAN
METHOD:PUBLISH
BEGIN:VTIMEZONE
TZID:Europe/Sarajevo
END:VTIMEZONE
BEGIN:VEVENT
UID:5d4949e308c01eb74e1bf9b90d9f680e
CATEGORIES:Program
CREATED:20230516T210108
SUMMARY:Terapija
LOCATION:Velika scena
DESCRIPTION: \nRegionalno pozorište Novi Pazar\nSezona: 2021/2022.\nAutor: po motivima 
 teksta „Neobična pošiljka“ autora Luke Đakomucija\nRežija i adaptacija: Žel
 jko Kasap\nScenografija i grafički dizajn: Vladimir Vanja Vlačina\nPrijevod
 : Lilijana Ivanović\nIgraju: Dean Batoz, Srđan Knjeginjić i Jelena Seksen\n
 Glas i radio voditelja – Zorica Jojić\nDa li je ljubav moguća u doba pandem
 ije korona virusom? Ljubav je jača i od straha i od smrti, ali Amor pogrešn
 o ispali strelicu, sudbina se umiješa i dođe do komičnih situacija koje će 
 se vidjeti u ovoj komediji.\nĐorđe, samac, odlučuje da preko agencije "Covi
 d ljubav" naruči djevojku koja bi mu pravila društvo tokom pandemije. Grešk
 om, umjesto djevojke u pošiljci mu dolazi muškarac Borivoje. Neugodnu situa
 ciju još više "začini" njegova komšinica  Mira koja je također u potrazi za
  ljubavi.\n
CONTACT:Ova adresa el. pošte je zaštićena od spambotova. Omogućite JavaScript da biste je vidjeli.
				document.getElementById('cloak3a82b4727c11299edbf41848376c39fd').innerHTML = '';
				var prefix = '&#109;a' + 'i&#108;' + '&#116;o';
				var path = 'hr' + 'ef' + '=';
				var addy3a82b4727c11299edbf41848376c39fd = 'm&#97;rk&#101;t&#105;ng' + '&#64;';
				addy3a82b4727c11299edbf41848376c39fd = addy3a82b4727c11299edbf41848376c39fd + 'npm' + '&#46;' + 'b&#97;';
				var addy_text3a82b4727c11299edbf41848376c39fd = 'm&#97;rk&#101;t&#105;ng' + '&#64;' + 'npm' + '&#46;' + 'b&#97;';document.getElementById('cloak3a82b4727c11299edbf41848376c39fd').innerHTML += '<a ' + path + '\'' + prefix + ':' + addy3a82b4727c11299edbf41848376c39fd + '\'>'+addy_text3a82b4727c11299edbf41848376c39fd+'';
		
DTSTAMP:20260421T222417Z
DTSTART;TZID=Europe/Sarajevo:20230525T200000
DTEND;TZID=Europe/Sarajevo:20230525T210000
SEQUENCE:0
TRANSP:OPAQUE
END:VEVENT
END:VCALENDAR