BEGIN:VCALENDAR
VERSION:2.0
PRODID:-//jEvents 2.0 for Joomla//EN
CALSCALE:GREGORIAN
METHOD:PUBLISH
BEGIN:VTIMEZONE
TZID:Europe/Sarajevo
END:VTIMEZONE
BEGIN:VEVENT
UID:a3f302ab9f27d2c298d6e086204befbc
CATEGORIES:Program
CREATED:20230516T210251
SUMMARY:Filmmusicorkestar
LOCATION:Velika scena
DESCRIPTION:Zagrebačka grupa muzičara zajedničkog imena Filmmusicorkestar ušla je u svo
 ju 7. godinu postojanja. Već svojim prvim nastupima pobudila je veliki inte
 res publike u cijeloj regiji, a kvalitetu njihova rada potvrđuju velika ime
 na, kao što su Goran Bregović, Vlatko Stefanovski, Zoran Predin, Emir Hadži
 hafizbegović, Đelo Hadžiselimović, Zlatko Gall, Miroslav Tadić.\nPredvođeni
  sjajnim vokalom Elme Burnić publici predstavljaju neke od najznačajnijih m
 uzičkih tema koje su obilježile filmsku epohu.\nBand čine Elma Burnić, voka
 l, Admir Ćulumarević, ritam gitara, Jurica Rukljić, tubist, Borna Šercar na
  bubnjevima, Antonio Vrbički na harmonici, Josip Mimica na klarinetu,te Emi
 l Gabrić na violi i violini.\n
CONTACT:Ova adresa el. pošte je zaštićena od spambotova. Omogućite JavaScript da biste je vidjeli.
				document.getElementById('cloak8f0227252c01fb27a4bfe1ae27892cd5').innerHTML = '';
				var prefix = '&#109;a' + 'i&#108;' + '&#116;o';
				var path = 'hr' + 'ef' + '=';
				var addy8f0227252c01fb27a4bfe1ae27892cd5 = 'm&#97;rk&#101;t&#105;ng' + '&#64;';
				addy8f0227252c01fb27a4bfe1ae27892cd5 = addy8f0227252c01fb27a4bfe1ae27892cd5 + 'npm' + '&#46;' + 'b&#97;';
				var addy_text8f0227252c01fb27a4bfe1ae27892cd5 = 'm&#97;rk&#101;t&#105;ng' + '&#64;' + 'npm' + '&#46;' + 'b&#97;';document.getElementById('cloak8f0227252c01fb27a4bfe1ae27892cd5').innerHTML += '<a ' + path + '\'' + prefix + ':' + addy8f0227252c01fb27a4bfe1ae27892cd5 + '\'>'+addy_text8f0227252c01fb27a4bfe1ae27892cd5+'';
		
DTSTAMP:20260421T222419Z
DTSTART;TZID=Europe/Sarajevo:20230526T200000
DTEND;TZID=Europe/Sarajevo:20230526T210000
SEQUENCE:0
TRANSP:OPAQUE
END:VEVENT
END:VCALENDAR