BEGIN:VCALENDAR
VERSION:2.0
PRODID:-//jEvents 2.0 for Joomla//EN
CALSCALE:GREGORIAN
METHOD:PUBLISH
BEGIN:VTIMEZONE
TZID:Europe/Sarajevo
END:VTIMEZONE
BEGIN:VEVENT
UID:af18ee446b9c9bde0c780271a4a65a49
CATEGORIES:Program
CREATED:20230516T210612
SUMMARY:Promocija monografije
LOCATION:Studio 64
DESCRIPTION:<p>Promocija monografije “Dvije dekade više od festivala - Mostarska liska”
  autora Srđana Vukadinovića.</p>
CONTACT:Ova adresa el. pošte je zaštićena od spambotova. Omogućite JavaScript da biste je vidjeli.
				document.getElementById('cloake3e084a8811216b7f053f17e005f8a4f').innerHTML = '';
				var prefix = '&#109;a' + 'i&#108;' + '&#116;o';
				var path = 'hr' + 'ef' + '=';
				var addye3e084a8811216b7f053f17e005f8a4f = 'm&#97;rk&#101;t&#105;ng' + '&#64;';
				addye3e084a8811216b7f053f17e005f8a4f = addye3e084a8811216b7f053f17e005f8a4f + 'npm' + '&#46;' + 'b&#97;';
				var addy_texte3e084a8811216b7f053f17e005f8a4f = 'm&#97;rk&#101;t&#105;ng' + '&#64;' + 'npm' + '&#46;' + 'b&#97;';document.getElementById('cloake3e084a8811216b7f053f17e005f8a4f').innerHTML += '<a ' + path + '\'' + prefix + ':' + addye3e084a8811216b7f053f17e005f8a4f + '\'>'+addy_texte3e084a8811216b7f053f17e005f8a4f+'';
		
DTSTAMP:20260422T003854Z
DTSTART;TZID=Europe/Sarajevo:20230524T183000
DTEND;TZID=Europe/Sarajevo:20230524T193000
SEQUENCE:0
TRANSP:OPAQUE
END:VEVENT
END:VCALENDAR