BEGIN:VCALENDAR
VERSION:2.0
PRODID:-//jEvents 2.0 for Joomla//EN
CALSCALE:GREGORIAN
METHOD:PUBLISH
BEGIN:VTIMEZONE
TZID:Europe/Sarajevo
END:VTIMEZONE
BEGIN:VEVENT
UID:eb3e30a873802a368609a9dc700ac012
CATEGORIES:Program
CREATED:20260107T150142
SUMMARY:OTKAZANO: Ovaj mali život 
LOCATION:Velika scena
DESCRIPTION:Kratak opis: „Svaki život je priča, a svaku priču  vrijedi ispričati. Ova j
 e o Miri. Iako je ona nestala i ne možemo da je nađemo. Možda je prepoznate
 . Možda vam se još neko iz predstave učini poznat. Nije rijetkost u pozoriš
 tu sresti sebe ili druge. Ako sretnete Miru, recite joj da dođe, sada u poz
 orištu imamo malu predstavu o njenom velikom životu... Čekajte, ne... Velik
 u predstavu o njenom malom životu... Tako nekako“, zapisala je o predstavi 
 autorica i režiserka Emina Kovačević-Podgorčević.\nIgraju: Nikolina Marić, 
 Amela Kreso, Emir Sejfić, Mirela Mijačank Kordić i Dragana Matrak Bukvić\nK
 oprodukcija: Narodno pozorište u Mostaru i Hrvatsko narodno kazalište u Mos
 taru\n
CONTACT:Ova adresa el. pošte je zaštićena od spambotova. Omogućite JavaScript da biste je vidjeli.
				document.getElementById('cloak53d9f56092a9d301933de002b80879b9').innerHTML = '';
				var prefix = '&#109;a' + 'i&#108;' + '&#116;o';
				var path = 'hr' + 'ef' + '=';
				var addy53d9f56092a9d301933de002b80879b9 = 'm&#97;rk&#101;t&#105;ng' + '&#64;';
				addy53d9f56092a9d301933de002b80879b9 = addy53d9f56092a9d301933de002b80879b9 + 'npm' + '&#46;' + 'b&#97;';
				var addy_text53d9f56092a9d301933de002b80879b9 = 'm&#97;rk&#101;t&#105;ng' + '&#64;' + 'npm' + '&#46;' + 'b&#97;';document.getElementById('cloak53d9f56092a9d301933de002b80879b9').innerHTML += '<a ' + path + '\'' + prefix + ':' + addy53d9f56092a9d301933de002b80879b9 + '\'>'+addy_text53d9f56092a9d301933de002b80879b9+'';
		
X-EXTRAINFO:Cijena ulaznice iznosi 10 KM, sa popustom za učenike, studente i penzionere
  5 KM
DTSTAMP:20260422T053522Z
DTSTART;TZID=Europe/Sarajevo:20260109T200000
DTEND;TZID=Europe/Sarajevo:20260109T210000
SEQUENCE:0
TRANSP:OPAQUE
END:VEVENT
END:VCALENDAR