BEGIN:VCALENDAR
VERSION:2.0
PRODID:-//jEvents 2.0 for Joomla//EN
CALSCALE:GREGORIAN
METHOD:PUBLISH
BEGIN:VTIMEZONE
TZID:Europe/Sarajevo
BEGIN:STANDARD
DTSTART:20151025T020000
RDATE:20160327T030000
TZOFFSETFROM:+0200
TZOFFSETTO:+0100
TZNAME:Europe/Sarajevo CET
END:STANDARD
BEGIN:STANDARD
DTSTART:20161030T020000
RDATE:20170326T030000
TZOFFSETFROM:+0200
TZOFFSETTO:+0100
TZNAME:Europe/Sarajevo CET
END:STANDARD
BEGIN:STANDARD
DTSTART:20171029T020000
RDATE:20180325T030000
TZOFFSETFROM:+0200
TZOFFSETTO:+0100
TZNAME:Europe/Sarajevo CET
END:STANDARD
BEGIN:STANDARD
DTSTART:20181028T020000
RDATE:20190331T030000
TZOFFSETFROM:+0200
TZOFFSETTO:+0100
TZNAME:Europe/Sarajevo CET
END:STANDARD
BEGIN:STANDARD
DTSTART:20191027T020000
RDATE:20200329T030000
TZOFFSETFROM:+0200
TZOFFSETTO:+0100
TZNAME:Europe/Sarajevo CET
END:STANDARD
BEGIN:STANDARD
DTSTART:20201025T020000
RDATE:20210328T030000
TZOFFSETFROM:+0200
TZOFFSETTO:+0100
TZNAME:Europe/Sarajevo CET
END:STANDARD
BEGIN:DAYLIGHT
DTSTART:20151015T200000
RDATE:20151025T020000
TZOFFSETFROM:+0100
TZOFFSETTO:+0200
TZNAME:Europe/Sarajevo CEST
END:DAYLIGHT
BEGIN:DAYLIGHT
DTSTART:20160327T030000
RDATE:20161030T020000
TZOFFSETFROM:+0100
TZOFFSETTO:+0200
TZNAME:Europe/Sarajevo CEST
END:DAYLIGHT
BEGIN:DAYLIGHT
DTSTART:20170326T030000
RDATE:20171029T020000
TZOFFSETFROM:+0100
TZOFFSETTO:+0200
TZNAME:Europe/Sarajevo CEST
END:DAYLIGHT
BEGIN:DAYLIGHT
DTSTART:20180325T030000
RDATE:20181028T020000
TZOFFSETFROM:+0100
TZOFFSETTO:+0200
TZNAME:Europe/Sarajevo CEST
END:DAYLIGHT
BEGIN:DAYLIGHT
DTSTART:20190331T030000
RDATE:20191027T020000
TZOFFSETFROM:+0100
TZOFFSETTO:+0200
TZNAME:Europe/Sarajevo CEST
END:DAYLIGHT
BEGIN:DAYLIGHT
DTSTART:20200329T030000
RDATE:20201025T020000
TZOFFSETFROM:+0100
TZOFFSETTO:+0200
TZNAME:Europe/Sarajevo CEST
END:DAYLIGHT
END:VTIMEZONE
BEGIN:VEVENT
UID:8bd623e0e2889754a3362ab4cf121921
CATEGORIES:Program
CREATED:20160927T213541
SUMMARY:Mostarska djelidba
LOCATION:Velika scena
DESCRIPTION:<p>Predstava "Mostarska djelidba" - Skender Kulenović / Sulejman Kupusović<
 /p>
CONTACT:Ova adresa el. pošte je zaštićena od spambotova. Omogućite JavaScript da biste je vidjeli.
				document.getElementById('cloak4574687a3a4c0fa95a5c4771f27e6d6d').innerHTML = '';
				var prefix = '&#109;a' + 'i&#108;' + '&#116;o';
				var path = 'hr' + 'ef' + '=';
				var addy4574687a3a4c0fa95a5c4771f27e6d6d = 'm&#97;rk&#101;t&#105;ng' + '&#64;';
				addy4574687a3a4c0fa95a5c4771f27e6d6d = addy4574687a3a4c0fa95a5c4771f27e6d6d + 'npm' + '&#46;' + 'b&#97;';
				var addy_text4574687a3a4c0fa95a5c4771f27e6d6d = 'm&#97;rk&#101;t&#105;ng' + '&#64;' + 'npm' + '&#46;' + 'b&#97;';document.getElementById('cloak4574687a3a4c0fa95a5c4771f27e6d6d').innerHTML += '<a ' + path + '\'' + prefix + ':' + addy4574687a3a4c0fa95a5c4771f27e6d6d + '\'>'+addy_text4574687a3a4c0fa95a5c4771f27e6d6d+'';
		
X-EXTRAINFO:7 KM, s popustom za učenike i penzionere 3,50 KM\nUlaznice se mogu kupiti n
 a blagajni Narodnog pozorišta Mostar svakim radnim danom od 9 - 14 sati ili
  rezervisati na telefon 036/550-128. Rezervacija ulaznica se može izvršiti 
 i putem e- maila: Ova adresa el. pošte je zaštićena od spambotova. Omogućit
 e JavaScript da biste je vidjeli.
				document.getElementById('cloak47e9b60
 df517f3c4fa16a8de1f69648f').innerHTML = '';
				var prefix = '&#109;a' + 'i
 &#108;' + '&#116;o';
				var path = 'hr' + 'ef' + '=';
				var addy47e9b60d
 f517f3c4fa16a8de1f69648f = 'm&#97;rk&#101;t&#105;ng' + '&#64;';
				addy47e
 9b60df517f3c4fa16a8de1f69648f = addy47e9b60df517f3c4fa16a8de1f69648f + 'npm
 ' + '&#46;' + 'b&#97;';
				var addy_text47e9b60df517f3c4fa16a8de1f69648f =
  'm&#97;rk&#101;t&#105;ng' + '&#64;' + 'npm' + '&#46;' + 'b&#97;';document.
 getElementById('cloak47e9b60df517f3c4fa16a8de1f69648f').innerHTML += '<a ' 
 + path + '\'' + prefix + ':' + addy47e9b60df517f3c4fa16a8de1f69648f + '\'>'
 +addy_text47e9b60df517f3c4fa16a8de1f69648f+'';
		, te putem poruke u inbox 
 na facebook stranici Narodnog pozorišta Mostar.\n
X-COLOR:#ff0000
DTSTAMP:20260422T042520Z
DTSTART;TZID=Europe/Sarajevo:20161015T200000
DTEND;TZID=Europe/Sarajevo:20161015T210000
SEQUENCE:0
TRANSP:OPAQUE
END:VEVENT
END:VCALENDAR