BEGIN:VCALENDAR
VERSION:2.0
PRODID:-//jEvents 2.0 for Joomla//EN
CALSCALE:GREGORIAN
METHOD:PUBLISH
BEGIN:VTIMEZONE
TZID:Europe/Sarajevo
BEGIN:STANDARD
DTSTART:20151029T190000
RDATE:20160327T030000
TZOFFSETFROM:+0200
TZOFFSETTO:+0100
TZNAME:Europe/Sarajevo CET
END:STANDARD
BEGIN:STANDARD
DTSTART:20161030T020000
RDATE:20170326T030000
TZOFFSETFROM:+0200
TZOFFSETTO:+0100
TZNAME:Europe/Sarajevo CET
END:STANDARD
BEGIN:STANDARD
DTSTART:20171029T020000
RDATE:20180325T030000
TZOFFSETFROM:+0200
TZOFFSETTO:+0100
TZNAME:Europe/Sarajevo CET
END:STANDARD
BEGIN:STANDARD
DTSTART:20181028T020000
RDATE:20190331T030000
TZOFFSETFROM:+0200
TZOFFSETTO:+0100
TZNAME:Europe/Sarajevo CET
END:STANDARD
BEGIN:STANDARD
DTSTART:20191027T020000
RDATE:20200329T030000
TZOFFSETFROM:+0200
TZOFFSETTO:+0100
TZNAME:Europe/Sarajevo CET
END:STANDARD
BEGIN:STANDARD
DTSTART:20201025T020000
RDATE:20210328T030000
TZOFFSETFROM:+0200
TZOFFSETTO:+0100
TZNAME:Europe/Sarajevo CET
END:STANDARD
BEGIN:DAYLIGHT
DTSTART:20160327T030000
RDATE:20161030T020000
TZOFFSETFROM:+0100
TZOFFSETTO:+0200
TZNAME:Europe/Sarajevo CEST
END:DAYLIGHT
BEGIN:DAYLIGHT
DTSTART:20170326T030000
RDATE:20171029T020000
TZOFFSETFROM:+0100
TZOFFSETTO:+0200
TZNAME:Europe/Sarajevo CEST
END:DAYLIGHT
BEGIN:DAYLIGHT
DTSTART:20180325T030000
RDATE:20181028T020000
TZOFFSETFROM:+0100
TZOFFSETTO:+0200
TZNAME:Europe/Sarajevo CEST
END:DAYLIGHT
BEGIN:DAYLIGHT
DTSTART:20190331T030000
RDATE:20191027T020000
TZOFFSETFROM:+0100
TZOFFSETTO:+0200
TZNAME:Europe/Sarajevo CEST
END:DAYLIGHT
BEGIN:DAYLIGHT
DTSTART:20200329T030000
RDATE:20201025T020000
TZOFFSETFROM:+0100
TZOFFSETTO:+0200
TZNAME:Europe/Sarajevo CEST
END:DAYLIGHT
END:VTIMEZONE
BEGIN:VEVENT
UID:9a3131e1dd082a035e84583850895394
CATEGORIES:Program
CREATED:20160927T214126
SUMMARY:Dame biraju
LOCATION:Velika scena
DESCRIPTION:<p>Predstava "Dame biraju" - Admir Glamočak, produkcija Alt Teatar Sarajevo
 </p>
CONTACT:Ova adresa el. pošte je zaštićena od spambotova. Omogućite JavaScript da biste je vidjeli.
				document.getElementById('cloakd72033b4cb2f8249afa61e53dc8ee593').innerHTML = '';
				var prefix = '&#109;a' + 'i&#108;' + '&#116;o';
				var path = 'hr' + 'ef' + '=';
				var addyd72033b4cb2f8249afa61e53dc8ee593 = 'm&#97;rk&#101;t&#105;ng' + '&#64;';
				addyd72033b4cb2f8249afa61e53dc8ee593 = addyd72033b4cb2f8249afa61e53dc8ee593 + 'npm' + '&#46;' + 'b&#97;';
				var addy_textd72033b4cb2f8249afa61e53dc8ee593 = 'm&#97;rk&#101;t&#105;ng' + '&#64;' + 'npm' + '&#46;' + 'b&#97;';document.getElementById('cloakd72033b4cb2f8249afa61e53dc8ee593').innerHTML += '<a ' + path + '\'' + prefix + ':' + addyd72033b4cb2f8249afa61e53dc8ee593 + '\'>'+addy_textd72033b4cb2f8249afa61e53dc8ee593+'';
		
X-EXTRAINFO:Cijena: 10,- KM\nNapomena: gostujuća predstavaUlaznice se mogu kupiti na bl
 agajni Narodnog pozorišta Mostar svakim radnim danom od 9 - 14 sati ili rez
 ervisati na telefon 036/550-128. Rezervacija ulaznica se može izvršiti i pu
 tem e- maila: Ova adresa el. pošte je zaštićena od spambotova. Omogućite Ja
 vaScript da biste je vidjeli.
				document.getElementById('cloak3711b4b90dc
 e2d1072cd404e255d8172').innerHTML = '';
				var prefix = '&#109;a' + 'i&#10
 8;' + '&#116;o';
				var path = 'hr' + 'ef' + '=';
				var addy3711b4b90dce
 2d1072cd404e255d8172 = 'm&#97;rk&#101;t&#105;ng' + '&#64;';
				addy3711b4b
 90dce2d1072cd404e255d8172 = addy3711b4b90dce2d1072cd404e255d8172 + 'npm' + 
 '&#46;' + 'b&#97;';
				var addy_text3711b4b90dce2d1072cd404e255d8172 = 'm&
 #97;rk&#101;t&#105;ng' + '&#64;' + 'npm' + '&#46;' + 'b&#97;';document.getE
 lementById('cloak3711b4b90dce2d1072cd404e255d8172').innerHTML += '<a ' + pa
 th + '\'' + prefix + ':' + addy3711b4b90dce2d1072cd404e255d8172 + '\'>'+add
 y_text3711b4b90dce2d1072cd404e255d8172+'';
		, te putem poruke u inbox na f
 acebook stranici Narodnog pozorišta Mostar.
X-COLOR:#00ff88
DTSTAMP:20260422T030414Z
DTSTART;TZID=Europe/Sarajevo:20161029T200000
DTEND;TZID=Europe/Sarajevo:20161029T210000
SEQUENCE:0
TRANSP:OPAQUE
END:VEVENT
END:VCALENDAR