BEGIN:VCALENDAR
VERSION:2.0
PRODID:-//jEvents 2.0 for Joomla//EN
CALSCALE:GREGORIAN
METHOD:PUBLISH
BEGIN:VTIMEZONE
TZID:Europe/Sarajevo
BEGIN:STANDARD
DTSTART:20161030T020000
RDATE:20170326T030000
TZOFFSETFROM:+0200
TZOFFSETTO:+0100
TZNAME:Europe/Sarajevo CET
END:STANDARD
BEGIN:STANDARD
DTSTART:20171029T020000
RDATE:20180325T030000
TZOFFSETFROM:+0200
TZOFFSETTO:+0100
TZNAME:Europe/Sarajevo CET
END:STANDARD
BEGIN:STANDARD
DTSTART:20181028T020000
RDATE:20190331T030000
TZOFFSETFROM:+0200
TZOFFSETTO:+0100
TZNAME:Europe/Sarajevo CET
END:STANDARD
BEGIN:STANDARD
DTSTART:20191027T020000
RDATE:20200329T030000
TZOFFSETFROM:+0200
TZOFFSETTO:+0100
TZNAME:Europe/Sarajevo CET
END:STANDARD
BEGIN:STANDARD
DTSTART:20201025T020000
RDATE:20210328T030000
TZOFFSETFROM:+0200
TZOFFSETTO:+0100
TZNAME:Europe/Sarajevo CET
END:STANDARD
BEGIN:DAYLIGHT
DTSTART:20160608T200000
RDATE:20161030T020000
TZOFFSETFROM:+0100
TZOFFSETTO:+0200
TZNAME:Europe/Sarajevo CEST
END:DAYLIGHT
BEGIN:DAYLIGHT
DTSTART:20170326T030000
RDATE:20171029T020000
TZOFFSETFROM:+0100
TZOFFSETTO:+0200
TZNAME:Europe/Sarajevo CEST
END:DAYLIGHT
BEGIN:DAYLIGHT
DTSTART:20180325T030000
RDATE:20181028T020000
TZOFFSETFROM:+0100
TZOFFSETTO:+0200
TZNAME:Europe/Sarajevo CEST
END:DAYLIGHT
BEGIN:DAYLIGHT
DTSTART:20190331T030000
RDATE:20191027T020000
TZOFFSETFROM:+0100
TZOFFSETTO:+0200
TZNAME:Europe/Sarajevo CEST
END:DAYLIGHT
BEGIN:DAYLIGHT
DTSTART:20200329T030000
RDATE:20201025T020000
TZOFFSETFROM:+0100
TZOFFSETTO:+0200
TZNAME:Europe/Sarajevo CEST
END:DAYLIGHT
END:VTIMEZONE
BEGIN:VEVENT
UID:395de0632474b4d2f922497c109c281f
CATEGORIES:Program
CREATED:20170529T200619
SUMMARY:Hotel Plaza
LOCATION:Velika scena
DESCRIPTION:<p>Hit komedija “Hotel Plaza” Neila Simona u režiji Admira Glamočaka, već n
 agrađivana na festivalima, kao i na prvom regionalnom festivalu pozorišne k
 omedije “Osmijeh Sarajeva”,</p>
CONTACT:Ova adresa el. pošte je zaštićena od spambotova. Omogućite JavaScript da biste je vidjeli.
				document.getElementById('cloake7c4e622dda7818d2b8b64c53be0442e').innerHTML = '';
				var prefix = '&#109;a' + 'i&#108;' + '&#116;o';
				var path = 'hr' + 'ef' + '=';
				var addye7c4e622dda7818d2b8b64c53be0442e = 'm&#97;rk&#101;t&#105;ng' + '&#64;';
				addye7c4e622dda7818d2b8b64c53be0442e = addye7c4e622dda7818d2b8b64c53be0442e + 'npm' + '&#46;' + 'b&#97;';
				var addy_texte7c4e622dda7818d2b8b64c53be0442e = 'm&#97;rk&#101;t&#105;ng' + '&#64;' + 'npm' + '&#46;' + 'b&#97;';document.getElementById('cloake7c4e622dda7818d2b8b64c53be0442e').innerHTML += '<a ' + path + '\'' + prefix + ':' + addye7c4e622dda7818d2b8b64c53be0442e + '\'>'+addy_texte7c4e622dda7818d2b8b64c53be0442e+'';
		
X-COLOR:#ff0000
DTSTAMP:20260422T042430Z
DTSTART;TZID=Europe/Sarajevo:20170609T200000
DTEND;TZID=Europe/Sarajevo:20170609T210000
SEQUENCE:0
TRANSP:OPAQUE
END:VEVENT
END:VCALENDAR